BEGIN:VCALENDAR
VERSION:2.0
PRODID:-//RANCHMANS 23 - ECPv6.15.20//NONSGML v1.0//EN
CALSCALE:GREGORIAN
METHOD:PUBLISH
X-ORIGINAL-URL:https://ranchmans23.com
X-WR-CALDESC:Events for RANCHMANS 23
REFRESH-INTERVAL;VALUE=DURATION:PT1H
X-Robots-Tag:noindex
X-PUBLISHED-TTL:PT1H
BEGIN:VTIMEZONE
TZID:UTC
BEGIN:STANDARD
TZOFFSETFROM:+0000
TZOFFSETTO:+0000
TZNAME:UTC
DTSTART:20260101T000000
END:STANDARD
END:VTIMEZONE
BEGIN:VEVENT
DTSTART;TZID=UTC:20270706T183000
DTEND;TZID=UTC:20270706T183000
DTSTAMP:20260422T095728
CREATED:20250925T041927Z
LAST-MODIFIED:20250925T041927Z
UID:1693-1814898600-1814898600@ranchmans23.com
SUMMARY:Bingo
DESCRIPTION:
URL:https://ranchmans23.com/events/bingo/2027-07-06/
END:VEVENT
BEGIN:VEVENT
DTSTART;TZID=UTC:20270707T183000
DTEND;TZID=UTC:20270707T183000
DTSTAMP:20260422T095728
CREATED:20250925T042337Z
LAST-MODIFIED:20250925T042337Z
UID:1801-1814985000-1814985000@ranchmans23.com
SUMMARY:Bar Bingo
DESCRIPTION:
URL:https://ranchmans23.com/events/bar-bingo/2027-07-07/
END:VEVENT
BEGIN:VEVENT
DTSTART;TZID=UTC:20270713T183000
DTEND;TZID=UTC:20270713T183000
DTSTAMP:20260422T095728
CREATED:20250925T041927Z
LAST-MODIFIED:20250925T041927Z
UID:1694-1815503400-1815503400@ranchmans23.com
SUMMARY:Bingo
DESCRIPTION:
URL:https://ranchmans23.com/events/bingo/2027-07-13/
END:VEVENT
BEGIN:VEVENT
DTSTART;TZID=UTC:20270714T183000
DTEND;TZID=UTC:20270714T183000
DTSTAMP:20260422T095728
CREATED:20250925T042337Z
LAST-MODIFIED:20250925T042337Z
UID:1802-1815589800-1815589800@ranchmans23.com
SUMMARY:Bar Bingo
DESCRIPTION:
URL:https://ranchmans23.com/events/bar-bingo/2027-07-14/
END:VEVENT
BEGIN:VEVENT
DTSTART;TZID=UTC:20270720T183000
DTEND;TZID=UTC:20270720T183000
DTSTAMP:20260422T095728
CREATED:20250925T041927Z
LAST-MODIFIED:20250925T041927Z
UID:1695-1816108200-1816108200@ranchmans23.com
SUMMARY:Bingo
DESCRIPTION:
URL:https://ranchmans23.com/events/bingo/2027-07-20/
END:VEVENT
BEGIN:VEVENT
DTSTART;TZID=UTC:20270721T183000
DTEND;TZID=UTC:20270721T183000
DTSTAMP:20260422T095728
CREATED:20250925T042337Z
LAST-MODIFIED:20250925T042337Z
UID:1803-1816194600-1816194600@ranchmans23.com
SUMMARY:Bar Bingo
DESCRIPTION:
URL:https://ranchmans23.com/events/bar-bingo/2027-07-21/
END:VEVENT
BEGIN:VEVENT
DTSTART;TZID=UTC:20270727T183000
DTEND;TZID=UTC:20270727T183000
DTSTAMP:20260422T095728
CREATED:20250925T041927Z
LAST-MODIFIED:20250925T041927Z
UID:1696-1816713000-1816713000@ranchmans23.com
SUMMARY:Bingo
DESCRIPTION:
URL:https://ranchmans23.com/events/bingo/2027-07-27/
END:VEVENT
BEGIN:VEVENT
DTSTART;TZID=UTC:20270728T183000
DTEND;TZID=UTC:20270728T183000
DTSTAMP:20260422T095728
CREATED:20250925T042337Z
LAST-MODIFIED:20250925T042337Z
UID:1804-1816799400-1816799400@ranchmans23.com
SUMMARY:Bar Bingo
DESCRIPTION:
URL:https://ranchmans23.com/events/bar-bingo/2027-07-28/
END:VEVENT
END:VCALENDAR