BEGIN:VCALENDAR
VERSION:2.0
PRODID:-//RANCHMANS 23 - ECPv6.15.20//NONSGML v1.0//EN
CALSCALE:GREGORIAN
METHOD:PUBLISH
X-ORIGINAL-URL:https://ranchmans23.com
X-WR-CALDESC:Events for RANCHMANS 23
REFRESH-INTERVAL;VALUE=DURATION:PT1H
X-Robots-Tag:noindex
X-PUBLISHED-TTL:PT1H
BEGIN:VTIMEZONE
TZID:UTC
BEGIN:STANDARD
TZOFFSETFROM:+0000
TZOFFSETTO:+0000
TZNAME:UTC
DTSTART:20250101T000000
END:STANDARD
END:VTIMEZONE
BEGIN:VEVENT
DTSTART;TZID=UTC:20261201T183000
DTEND;TZID=UTC:20261201T183000
DTSTAMP:20260421T233943
CREATED:20250925T041927Z
LAST-MODIFIED:20250925T041927Z
UID:1662-1796149800-1796149800@ranchmans23.com
SUMMARY:Bingo
DESCRIPTION:
URL:https://ranchmans23.com/events/bingo/2026-12-01/
END:VEVENT
BEGIN:VEVENT
DTSTART;TZID=UTC:20261202T183000
DTEND;TZID=UTC:20261202T183000
DTSTAMP:20260421T233943
CREATED:20250925T042337Z
LAST-MODIFIED:20250925T042337Z
UID:1770-1796236200-1796236200@ranchmans23.com
SUMMARY:Bar Bingo
DESCRIPTION:
URL:https://ranchmans23.com/events/bar-bingo/2026-12-02/
END:VEVENT
BEGIN:VEVENT
DTSTART;TZID=UTC:20261208T183000
DTEND;TZID=UTC:20261208T183000
DTSTAMP:20260421T233943
CREATED:20250925T041927Z
LAST-MODIFIED:20250925T041927Z
UID:1663-1796754600-1796754600@ranchmans23.com
SUMMARY:Bingo
DESCRIPTION:
URL:https://ranchmans23.com/events/bingo/2026-12-08/
END:VEVENT
BEGIN:VEVENT
DTSTART;TZID=UTC:20261209T183000
DTEND;TZID=UTC:20261209T183000
DTSTAMP:20260421T233943
CREATED:20250925T042337Z
LAST-MODIFIED:20250925T042337Z
UID:1771-1796841000-1796841000@ranchmans23.com
SUMMARY:Bar Bingo
DESCRIPTION:
URL:https://ranchmans23.com/events/bar-bingo/2026-12-09/
END:VEVENT
BEGIN:VEVENT
DTSTART;TZID=UTC:20261215T183000
DTEND;TZID=UTC:20261215T183000
DTSTAMP:20260421T233943
CREATED:20250925T041927Z
LAST-MODIFIED:20250925T041927Z
UID:1664-1797359400-1797359400@ranchmans23.com
SUMMARY:Bingo
DESCRIPTION:
URL:https://ranchmans23.com/events/bingo/2026-12-15/
END:VEVENT
BEGIN:VEVENT
DTSTART;TZID=UTC:20261216T183000
DTEND;TZID=UTC:20261216T183000
DTSTAMP:20260421T233943
CREATED:20250925T042337Z
LAST-MODIFIED:20250925T042337Z
UID:1772-1797445800-1797445800@ranchmans23.com
SUMMARY:Bar Bingo
DESCRIPTION:
URL:https://ranchmans23.com/events/bar-bingo/2026-12-16/
END:VEVENT
BEGIN:VEVENT
DTSTART;TZID=UTC:20261222T183000
DTEND;TZID=UTC:20261222T183000
DTSTAMP:20260421T233943
CREATED:20250925T041927Z
LAST-MODIFIED:20250925T041927Z
UID:1665-1797964200-1797964200@ranchmans23.com
SUMMARY:Bingo
DESCRIPTION:
URL:https://ranchmans23.com/events/bingo/2026-12-22/
END:VEVENT
BEGIN:VEVENT
DTSTART;TZID=UTC:20261223T183000
DTEND;TZID=UTC:20261223T183000
DTSTAMP:20260421T233943
CREATED:20250925T042337Z
LAST-MODIFIED:20250925T042337Z
UID:1773-1798050600-1798050600@ranchmans23.com
SUMMARY:Bar Bingo
DESCRIPTION:
URL:https://ranchmans23.com/events/bar-bingo/2026-12-23/
END:VEVENT
BEGIN:VEVENT
DTSTART;TZID=UTC:20261229T183000
DTEND;TZID=UTC:20261229T183000
DTSTAMP:20260421T233943
CREATED:20250925T041927Z
LAST-MODIFIED:20250925T041927Z
UID:1666-1798569000-1798569000@ranchmans23.com
SUMMARY:Bingo
DESCRIPTION:
URL:https://ranchmans23.com/events/bingo/2026-12-29/
END:VEVENT
BEGIN:VEVENT
DTSTART;TZID=UTC:20261230T183000
DTEND;TZID=UTC:20261230T183000
DTSTAMP:20260421T233943
CREATED:20250925T042337Z
LAST-MODIFIED:20250925T042337Z
UID:1774-1798655400-1798655400@ranchmans23.com
SUMMARY:Bar Bingo
DESCRIPTION:
URL:https://ranchmans23.com/events/bar-bingo/2026-12-30/
END:VEVENT
END:VCALENDAR