BEGIN:VCALENDAR
VERSION:2.0
PRODID:-//RANCHMANS 23 - ECPv6.15.20//NONSGML v1.0//EN
CALSCALE:GREGORIAN
METHOD:PUBLISH
X-ORIGINAL-URL:https://ranchmans23.com
X-WR-CALDESC:Events for RANCHMANS 23
REFRESH-INTERVAL;VALUE=DURATION:PT1H
X-Robots-Tag:noindex
X-PUBLISHED-TTL:PT1H
BEGIN:VTIMEZONE
TZID:UTC
BEGIN:STANDARD
TZOFFSETFROM:+0000
TZOFFSETTO:+0000
TZNAME:UTC
DTSTART:20250101T000000
END:STANDARD
END:VTIMEZONE
BEGIN:VEVENT
DTSTART;TZID=UTC:20261103T183000
DTEND;TZID=UTC:20261103T183000
DTSTAMP:20260421T222114
CREATED:20250925T041927Z
LAST-MODIFIED:20250925T041927Z
UID:1658-1793730600-1793730600@ranchmans23.com
SUMMARY:Bingo
DESCRIPTION:
URL:https://ranchmans23.com/events/bingo/2026-11-03/
END:VEVENT
BEGIN:VEVENT
DTSTART;TZID=UTC:20261104T183000
DTEND;TZID=UTC:20261104T183000
DTSTAMP:20260421T222114
CREATED:20250925T042337Z
LAST-MODIFIED:20250925T042337Z
UID:1766-1793817000-1793817000@ranchmans23.com
SUMMARY:Bar Bingo
DESCRIPTION:
URL:https://ranchmans23.com/events/bar-bingo/2026-11-04/
END:VEVENT
BEGIN:VEVENT
DTSTART;TZID=UTC:20261110T183000
DTEND;TZID=UTC:20261110T183000
DTSTAMP:20260421T222114
CREATED:20250925T041927Z
LAST-MODIFIED:20250925T041927Z
UID:1659-1794335400-1794335400@ranchmans23.com
SUMMARY:Bingo
DESCRIPTION:
URL:https://ranchmans23.com/events/bingo/2026-11-10/
END:VEVENT
BEGIN:VEVENT
DTSTART;TZID=UTC:20261111T183000
DTEND;TZID=UTC:20261111T183000
DTSTAMP:20260421T222114
CREATED:20250925T042337Z
LAST-MODIFIED:20250925T042337Z
UID:1767-1794421800-1794421800@ranchmans23.com
SUMMARY:Bar Bingo
DESCRIPTION:
URL:https://ranchmans23.com/events/bar-bingo/2026-11-11/
END:VEVENT
BEGIN:VEVENT
DTSTART;TZID=UTC:20261117T183000
DTEND;TZID=UTC:20261117T183000
DTSTAMP:20260421T222114
CREATED:20250925T041927Z
LAST-MODIFIED:20250925T041927Z
UID:1660-1794940200-1794940200@ranchmans23.com
SUMMARY:Bingo
DESCRIPTION:
URL:https://ranchmans23.com/events/bingo/2026-11-17/
END:VEVENT
BEGIN:VEVENT
DTSTART;TZID=UTC:20261118T183000
DTEND;TZID=UTC:20261118T183000
DTSTAMP:20260421T222114
CREATED:20250925T042337Z
LAST-MODIFIED:20250925T042337Z
UID:1768-1795026600-1795026600@ranchmans23.com
SUMMARY:Bar Bingo
DESCRIPTION:
URL:https://ranchmans23.com/events/bar-bingo/2026-11-18/
END:VEVENT
BEGIN:VEVENT
DTSTART;TZID=UTC:20261124T183000
DTEND;TZID=UTC:20261124T183000
DTSTAMP:20260421T222114
CREATED:20250925T041927Z
LAST-MODIFIED:20250925T041927Z
UID:1661-1795545000-1795545000@ranchmans23.com
SUMMARY:Bingo
DESCRIPTION:
URL:https://ranchmans23.com/events/bingo/2026-11-24/
END:VEVENT
BEGIN:VEVENT
DTSTART;TZID=UTC:20261125T183000
DTEND;TZID=UTC:20261125T183000
DTSTAMP:20260421T222114
CREATED:20250925T042337Z
LAST-MODIFIED:20250925T042337Z
UID:1769-1795631400-1795631400@ranchmans23.com
SUMMARY:Bar Bingo
DESCRIPTION:
URL:https://ranchmans23.com/events/bar-bingo/2026-11-25/
END:VEVENT
END:VCALENDAR