BEGIN:VCALENDAR
VERSION:2.0
PRODID:-//RANCHMANS 23 - ECPv6.15.20//NONSGML v1.0//EN
CALSCALE:GREGORIAN
METHOD:PUBLISH
X-ORIGINAL-URL:https://ranchmans23.com
X-WR-CALDESC:Events for RANCHMANS 23
REFRESH-INTERVAL;VALUE=DURATION:PT1H
X-Robots-Tag:noindex
X-PUBLISHED-TTL:PT1H
BEGIN:VTIMEZONE
TZID:UTC
BEGIN:STANDARD
TZOFFSETFROM:+0000
TZOFFSETTO:+0000
TZNAME:UTC
DTSTART:20250101T000000
END:STANDARD
END:VTIMEZONE
BEGIN:VEVENT
DTSTART;TZID=UTC:20260701T183000
DTEND;TZID=UTC:20260701T183000
DTSTAMP:20260421T163949
CREATED:20250925T042337Z
LAST-MODIFIED:20250925T042337Z
UID:1748-1782930600-1782930600@ranchmans23.com
SUMMARY:Bar Bingo
DESCRIPTION:
URL:https://ranchmans23.com/events/bar-bingo/2026-07-01/
END:VEVENT
BEGIN:VEVENT
DTSTART;TZID=UTC:20260707T183000
DTEND;TZID=UTC:20260707T183000
DTSTAMP:20260421T163949
CREATED:20250925T041927Z
LAST-MODIFIED:20250925T041927Z
UID:1641-1783449000-1783449000@ranchmans23.com
SUMMARY:Bingo
DESCRIPTION:
URL:https://ranchmans23.com/events/bingo/2026-07-07/
END:VEVENT
BEGIN:VEVENT
DTSTART;TZID=UTC:20260708T183000
DTEND;TZID=UTC:20260708T183000
DTSTAMP:20260421T163949
CREATED:20250925T042337Z
LAST-MODIFIED:20250925T042337Z
UID:1749-1783535400-1783535400@ranchmans23.com
SUMMARY:Bar Bingo
DESCRIPTION:
URL:https://ranchmans23.com/events/bar-bingo/2026-07-08/
END:VEVENT
BEGIN:VEVENT
DTSTART;TZID=UTC:20260714T183000
DTEND;TZID=UTC:20260714T183000
DTSTAMP:20260421T163949
CREATED:20250925T041927Z
LAST-MODIFIED:20250925T041927Z
UID:1642-1784053800-1784053800@ranchmans23.com
SUMMARY:Bingo
DESCRIPTION:
URL:https://ranchmans23.com/events/bingo/2026-07-14/
END:VEVENT
BEGIN:VEVENT
DTSTART;TZID=UTC:20260715T183000
DTEND;TZID=UTC:20260715T183000
DTSTAMP:20260421T163949
CREATED:20250925T042337Z
LAST-MODIFIED:20250925T042337Z
UID:1750-1784140200-1784140200@ranchmans23.com
SUMMARY:Bar Bingo
DESCRIPTION:
URL:https://ranchmans23.com/events/bar-bingo/2026-07-15/
END:VEVENT
BEGIN:VEVENT
DTSTART;TZID=UTC:20260721T183000
DTEND;TZID=UTC:20260721T183000
DTSTAMP:20260421T163949
CREATED:20250925T041927Z
LAST-MODIFIED:20250925T041927Z
UID:1643-1784658600-1784658600@ranchmans23.com
SUMMARY:Bingo
DESCRIPTION:
URL:https://ranchmans23.com/events/bingo/2026-07-21/
END:VEVENT
BEGIN:VEVENT
DTSTART;TZID=UTC:20260722T183000
DTEND;TZID=UTC:20260722T183000
DTSTAMP:20260421T163949
CREATED:20250925T042337Z
LAST-MODIFIED:20250925T042337Z
UID:1751-1784745000-1784745000@ranchmans23.com
SUMMARY:Bar Bingo
DESCRIPTION:
URL:https://ranchmans23.com/events/bar-bingo/2026-07-22/
END:VEVENT
BEGIN:VEVENT
DTSTART;TZID=UTC:20260728T183000
DTEND;TZID=UTC:20260728T183000
DTSTAMP:20260421T163949
CREATED:20250925T041927Z
LAST-MODIFIED:20250925T041927Z
UID:1644-1785263400-1785263400@ranchmans23.com
SUMMARY:Bingo
DESCRIPTION:
URL:https://ranchmans23.com/events/bingo/2026-07-28/
END:VEVENT
BEGIN:VEVENT
DTSTART;TZID=UTC:20260729T183000
DTEND;TZID=UTC:20260729T183000
DTSTAMP:20260421T163949
CREATED:20250925T042337Z
LAST-MODIFIED:20250925T042337Z
UID:1752-1785349800-1785349800@ranchmans23.com
SUMMARY:Bar Bingo
DESCRIPTION:
URL:https://ranchmans23.com/events/bar-bingo/2026-07-29/
END:VEVENT
END:VCALENDAR