BEGIN:VCALENDAR
VERSION:2.0
PRODID:-//RANCHMANS 23 - ECPv6.15.20//NONSGML v1.0//EN
CALSCALE:GREGORIAN
METHOD:PUBLISH
X-WR-CALNAME:RANCHMANS 23
X-ORIGINAL-URL:https://ranchmans23.com
X-WR-CALDESC:Events for RANCHMANS 23
REFRESH-INTERVAL;VALUE=DURATION:PT1H
X-Robots-Tag:noindex
X-PUBLISHED-TTL:PT1H
BEGIN:VTIMEZONE
TZID:UTC
BEGIN:STANDARD
TZOFFSETFROM:+0000
TZOFFSETTO:+0000
TZNAME:UTC
DTSTART:20240101T000000
END:STANDARD
END:VTIMEZONE
BEGIN:VEVENT
DTSTART;TZID=UTC:20250925T183000
DTEND;TZID=UTC:20250925T183000
DTSTAMP:20260422T003940
CREATED:20250925T041927Z
LAST-MODIFIED:20250925T121358Z
UID:1157-1758825000-1758825000@ranchmans23.com
SUMMARY:Bingo
DESCRIPTION:
URL:https://ranchmans23.com/events/bingo/2025-09-25/
END:VEVENT
BEGIN:VEVENT
DTSTART;TZID=UTC:20250924T183000
DTEND;TZID=UTC:20250924T183000
DTSTAMP:20260422T003940
CREATED:20250925T042337Z
LAST-MODIFIED:20250925T042337Z
UID:1708-1758738600-1758738600@ranchmans23.com
SUMMARY:Bar Bingo
DESCRIPTION:
URL:https://ranchmans23.com/events/bar-bingo/2025-09-24/
END:VEVENT
BEGIN:VEVENT
DTSTART;TZID=UTC:20250917T183000
DTEND;TZID=UTC:20250917T183000
DTSTAMP:20260422T003940
CREATED:20250925T042337Z
LAST-MODIFIED:20250925T042337Z
UID:1707-1758133800-1758133800@ranchmans23.com
SUMMARY:Bar Bingo
DESCRIPTION:
URL:https://ranchmans23.com/events/bar-bingo/2025-09-17/
END:VEVENT
BEGIN:VEVENT
DTSTART;TZID=UTC:20250910T183000
DTEND;TZID=UTC:20250910T183000
DTSTAMP:20260422T003940
CREATED:20250925T042337Z
LAST-MODIFIED:20250925T042337Z
UID:1706-1757529000-1757529000@ranchmans23.com
SUMMARY:Bar Bingo
DESCRIPTION:
URL:https://ranchmans23.com/events/bar-bingo/2025-09-10/
END:VEVENT
BEGIN:VEVENT
DTSTART;TZID=UTC:20250903T183000
DTEND;TZID=UTC:20250903T183000
DTSTAMP:20260422T003940
CREATED:20250925T042337Z
LAST-MODIFIED:20250925T121233Z
UID:1159-1756924200-1756924200@ranchmans23.com
SUMMARY:Bar Bingo
DESCRIPTION:
URL:https://ranchmans23.com/events/bar-bingo/2025-09-03/
END:VEVENT
END:VCALENDAR