BEGIN:VCALENDAR
VERSION:2.0
PRODID:-//RANCHMANS 23 - ECPv6.15.20//NONSGML v1.0//EN
CALSCALE:GREGORIAN
METHOD:PUBLISH
X-ORIGINAL-URL:https://ranchmans23.com
X-WR-CALDESC:Events for RANCHMANS 23
REFRESH-INTERVAL;VALUE=DURATION:PT1H
X-Robots-Tag:noindex
X-PUBLISHED-TTL:PT1H
BEGIN:VTIMEZONE
TZID:UTC
BEGIN:STANDARD
TZOFFSETFROM:+0000
TZOFFSETTO:+0000
TZNAME:UTC
DTSTART:20260101T000000
END:STANDARD
END:VTIMEZONE
BEGIN:VEVENT
DTSTART;TZID=UTC:20270127T183000
DTEND;TZID=UTC:20270127T183000
DTSTAMP:20260422T024319
CREATED:20250925T042337Z
LAST-MODIFIED:20250925T042337Z
UID:1778-1801074600-1801074600@ranchmans23.com
SUMMARY:Bar Bingo
DESCRIPTION:
URL:https://ranchmans23.com/events/bar-bingo/2027-01-27/
END:VEVENT
BEGIN:VEVENT
DTSTART;TZID=UTC:20270202T183000
DTEND;TZID=UTC:20270202T183000
DTSTAMP:20260422T024319
CREATED:20250925T041927Z
LAST-MODIFIED:20250925T041927Z
UID:1671-1801593000-1801593000@ranchmans23.com
SUMMARY:Bingo
DESCRIPTION:
URL:https://ranchmans23.com/events/bingo/2027-02-02/
END:VEVENT
BEGIN:VEVENT
DTSTART;TZID=UTC:20270203T183000
DTEND;TZID=UTC:20270203T183000
DTSTAMP:20260422T024319
CREATED:20250925T042337Z
LAST-MODIFIED:20250925T042337Z
UID:1779-1801679400-1801679400@ranchmans23.com
SUMMARY:Bar Bingo
DESCRIPTION:
URL:https://ranchmans23.com/events/bar-bingo/2027-02-03/
END:VEVENT
BEGIN:VEVENT
DTSTART;TZID=UTC:20270209T183000
DTEND;TZID=UTC:20270209T183000
DTSTAMP:20260422T024319
CREATED:20250925T041927Z
LAST-MODIFIED:20250925T041927Z
UID:1672-1802197800-1802197800@ranchmans23.com
SUMMARY:Bingo
DESCRIPTION:
URL:https://ranchmans23.com/events/bingo/2027-02-09/
END:VEVENT
BEGIN:VEVENT
DTSTART;TZID=UTC:20270210T183000
DTEND;TZID=UTC:20270210T183000
DTSTAMP:20260422T024319
CREATED:20250925T042337Z
LAST-MODIFIED:20250925T042337Z
UID:1780-1802284200-1802284200@ranchmans23.com
SUMMARY:Bar Bingo
DESCRIPTION:
URL:https://ranchmans23.com/events/bar-bingo/2027-02-10/
END:VEVENT
BEGIN:VEVENT
DTSTART;TZID=UTC:20270216T183000
DTEND;TZID=UTC:20270216T183000
DTSTAMP:20260422T024319
CREATED:20250925T041927Z
LAST-MODIFIED:20250925T041927Z
UID:1673-1802802600-1802802600@ranchmans23.com
SUMMARY:Bingo
DESCRIPTION:
URL:https://ranchmans23.com/events/bingo/2027-02-16/
END:VEVENT
BEGIN:VEVENT
DTSTART;TZID=UTC:20270217T183000
DTEND;TZID=UTC:20270217T183000
DTSTAMP:20260422T024319
CREATED:20250925T042337Z
LAST-MODIFIED:20250925T042337Z
UID:1781-1802889000-1802889000@ranchmans23.com
SUMMARY:Bar Bingo
DESCRIPTION:
URL:https://ranchmans23.com/events/bar-bingo/2027-02-17/
END:VEVENT
BEGIN:VEVENT
DTSTART;TZID=UTC:20270223T183000
DTEND;TZID=UTC:20270223T183000
DTSTAMP:20260422T024319
CREATED:20250925T041927Z
LAST-MODIFIED:20250925T041927Z
UID:1674-1803407400-1803407400@ranchmans23.com
SUMMARY:Bingo
DESCRIPTION:
URL:https://ranchmans23.com/events/bingo/2027-02-23/
END:VEVENT
BEGIN:VEVENT
DTSTART;TZID=UTC:20270224T183000
DTEND;TZID=UTC:20270224T183000
DTSTAMP:20260422T024319
CREATED:20250925T042337Z
LAST-MODIFIED:20250925T042337Z
UID:1782-1803493800-1803493800@ranchmans23.com
SUMMARY:Bar Bingo
DESCRIPTION:
URL:https://ranchmans23.com/events/bar-bingo/2027-02-24/
END:VEVENT
BEGIN:VEVENT
DTSTART;TZID=UTC:20270302T183000
DTEND;TZID=UTC:20270302T183000
DTSTAMP:20260422T024319
CREATED:20250925T041927Z
LAST-MODIFIED:20250925T041927Z
UID:1675-1804012200-1804012200@ranchmans23.com
SUMMARY:Bingo
DESCRIPTION:
URL:https://ranchmans23.com/events/bingo/2027-03-02/
END:VEVENT
BEGIN:VEVENT
DTSTART;TZID=UTC:20270303T183000
DTEND;TZID=UTC:20270303T183000
DTSTAMP:20260422T024319
CREATED:20250925T042337Z
LAST-MODIFIED:20250925T042337Z
UID:1783-1804098600-1804098600@ranchmans23.com
SUMMARY:Bar Bingo
DESCRIPTION:
URL:https://ranchmans23.com/events/bar-bingo/2027-03-03/
END:VEVENT
BEGIN:VEVENT
DTSTART;TZID=UTC:20270309T183000
DTEND;TZID=UTC:20270309T183000
DTSTAMP:20260422T024319
CREATED:20250925T041927Z
LAST-MODIFIED:20250925T041927Z
UID:1676-1804617000-1804617000@ranchmans23.com
SUMMARY:Bingo
DESCRIPTION:
URL:https://ranchmans23.com/events/bingo/2027-03-09/
END:VEVENT
BEGIN:VEVENT
DTSTART;TZID=UTC:20270310T183000
DTEND;TZID=UTC:20270310T183000
DTSTAMP:20260422T024319
CREATED:20250925T042337Z
LAST-MODIFIED:20250925T042337Z
UID:1784-1804703400-1804703400@ranchmans23.com
SUMMARY:Bar Bingo
DESCRIPTION:
URL:https://ranchmans23.com/events/bar-bingo/2027-03-10/
END:VEVENT
BEGIN:VEVENT
DTSTART;TZID=UTC:20270316T183000
DTEND;TZID=UTC:20270316T183000
DTSTAMP:20260422T024319
CREATED:20250925T041927Z
LAST-MODIFIED:20250925T041927Z
UID:1677-1805221800-1805221800@ranchmans23.com
SUMMARY:Bingo
DESCRIPTION:
URL:https://ranchmans23.com/events/bingo/2027-03-16/
END:VEVENT
BEGIN:VEVENT
DTSTART;TZID=UTC:20270317T183000
DTEND;TZID=UTC:20270317T183000
DTSTAMP:20260422T024319
CREATED:20250925T042337Z
LAST-MODIFIED:20250925T042337Z
UID:1785-1805308200-1805308200@ranchmans23.com
SUMMARY:Bar Bingo
DESCRIPTION:
URL:https://ranchmans23.com/events/bar-bingo/2027-03-17/
END:VEVENT
BEGIN:VEVENT
DTSTART;TZID=UTC:20270323T183000
DTEND;TZID=UTC:20270323T183000
DTSTAMP:20260422T024319
CREATED:20250925T041927Z
LAST-MODIFIED:20250925T041927Z
UID:1678-1805826600-1805826600@ranchmans23.com
SUMMARY:Bingo
DESCRIPTION:
URL:https://ranchmans23.com/events/bingo/2027-03-23/
END:VEVENT
BEGIN:VEVENT
DTSTART;TZID=UTC:20270324T183000
DTEND;TZID=UTC:20270324T183000
DTSTAMP:20260422T024319
CREATED:20250925T042337Z
LAST-MODIFIED:20250925T042337Z
UID:1786-1805913000-1805913000@ranchmans23.com
SUMMARY:Bar Bingo
DESCRIPTION:
URL:https://ranchmans23.com/events/bar-bingo/2027-03-24/
END:VEVENT
BEGIN:VEVENT
DTSTART;TZID=UTC:20270330T183000
DTEND;TZID=UTC:20270330T183000
DTSTAMP:20260422T024319
CREATED:20250925T041927Z
LAST-MODIFIED:20250925T041927Z
UID:1679-1806431400-1806431400@ranchmans23.com
SUMMARY:Bingo
DESCRIPTION:
URL:https://ranchmans23.com/events/bingo/2027-03-30/
END:VEVENT
BEGIN:VEVENT
DTSTART;TZID=UTC:20270331T183000
DTEND;TZID=UTC:20270331T183000
DTSTAMP:20260422T024319
CREATED:20250925T042337Z
LAST-MODIFIED:20250925T042337Z
UID:1787-1806517800-1806517800@ranchmans23.com
SUMMARY:Bar Bingo
DESCRIPTION:
URL:https://ranchmans23.com/events/bar-bingo/2027-03-31/
END:VEVENT
BEGIN:VEVENT
DTSTART;TZID=UTC:20270406T183000
DTEND;TZID=UTC:20270406T183000
DTSTAMP:20260422T024319
CREATED:20250925T041927Z
LAST-MODIFIED:20250925T041927Z
UID:1680-1807036200-1807036200@ranchmans23.com
SUMMARY:Bingo
DESCRIPTION:
URL:https://ranchmans23.com/events/bingo/2027-04-06/
END:VEVENT
BEGIN:VEVENT
DTSTART;TZID=UTC:20270407T183000
DTEND;TZID=UTC:20270407T183000
DTSTAMP:20260422T024319
CREATED:20250925T042337Z
LAST-MODIFIED:20250925T042337Z
UID:1788-1807122600-1807122600@ranchmans23.com
SUMMARY:Bar Bingo
DESCRIPTION:
URL:https://ranchmans23.com/events/bar-bingo/2027-04-07/
END:VEVENT
BEGIN:VEVENT
DTSTART;TZID=UTC:20270413T183000
DTEND;TZID=UTC:20270413T183000
DTSTAMP:20260422T024319
CREATED:20250925T041927Z
LAST-MODIFIED:20250925T041927Z
UID:1681-1807641000-1807641000@ranchmans23.com
SUMMARY:Bingo
DESCRIPTION:
URL:https://ranchmans23.com/events/bingo/2027-04-13/
END:VEVENT
BEGIN:VEVENT
DTSTART;TZID=UTC:20270414T183000
DTEND;TZID=UTC:20270414T183000
DTSTAMP:20260422T024319
CREATED:20250925T042337Z
LAST-MODIFIED:20250925T042337Z
UID:1789-1807727400-1807727400@ranchmans23.com
SUMMARY:Bar Bingo
DESCRIPTION:
URL:https://ranchmans23.com/events/bar-bingo/2027-04-14/
END:VEVENT
BEGIN:VEVENT
DTSTART;TZID=UTC:20270420T183000
DTEND;TZID=UTC:20270420T183000
DTSTAMP:20260422T024319
CREATED:20250925T041927Z
LAST-MODIFIED:20250925T041927Z
UID:1682-1808245800-1808245800@ranchmans23.com
SUMMARY:Bingo
DESCRIPTION:
URL:https://ranchmans23.com/events/bingo/2027-04-20/
END:VEVENT
BEGIN:VEVENT
DTSTART;TZID=UTC:20270421T183000
DTEND;TZID=UTC:20270421T183000
DTSTAMP:20260422T024319
CREATED:20250925T042337Z
LAST-MODIFIED:20250925T042337Z
UID:1790-1808332200-1808332200@ranchmans23.com
SUMMARY:Bar Bingo
DESCRIPTION:
URL:https://ranchmans23.com/events/bar-bingo/2027-04-21/
END:VEVENT
BEGIN:VEVENT
DTSTART;TZID=UTC:20270427T183000
DTEND;TZID=UTC:20270427T183000
DTSTAMP:20260422T024319
CREATED:20250925T041927Z
LAST-MODIFIED:20250925T041927Z
UID:1683-1808850600-1808850600@ranchmans23.com
SUMMARY:Bingo
DESCRIPTION:
URL:https://ranchmans23.com/events/bingo/2027-04-27/
END:VEVENT
BEGIN:VEVENT
DTSTART;TZID=UTC:20270428T183000
DTEND;TZID=UTC:20270428T183000
DTSTAMP:20260422T024319
CREATED:20250925T042337Z
LAST-MODIFIED:20250925T042337Z
UID:1791-1808937000-1808937000@ranchmans23.com
SUMMARY:Bar Bingo
DESCRIPTION:
URL:https://ranchmans23.com/events/bar-bingo/2027-04-28/
END:VEVENT
BEGIN:VEVENT
DTSTART;TZID=UTC:20270504T183000
DTEND;TZID=UTC:20270504T183000
DTSTAMP:20260422T024319
CREATED:20250925T041927Z
LAST-MODIFIED:20250925T041927Z
UID:1684-1809455400-1809455400@ranchmans23.com
SUMMARY:Bingo
DESCRIPTION:
URL:https://ranchmans23.com/events/bingo/2027-05-04/
END:VEVENT
BEGIN:VEVENT
DTSTART;TZID=UTC:20270505T183000
DTEND;TZID=UTC:20270505T183000
DTSTAMP:20260422T024319
CREATED:20250925T042337Z
LAST-MODIFIED:20250925T042337Z
UID:1792-1809541800-1809541800@ranchmans23.com
SUMMARY:Bar Bingo
DESCRIPTION:
URL:https://ranchmans23.com/events/bar-bingo/2027-05-05/
END:VEVENT
BEGIN:VEVENT
DTSTART;TZID=UTC:20270511T183000
DTEND;TZID=UTC:20270511T183000
DTSTAMP:20260422T024319
CREATED:20250925T041927Z
LAST-MODIFIED:20250925T041927Z
UID:1685-1810060200-1810060200@ranchmans23.com
SUMMARY:Bingo
DESCRIPTION:
URL:https://ranchmans23.com/events/bingo/2027-05-11/
END:VEVENT
END:VCALENDAR