BEGIN:VCALENDAR
VERSION:2.0
PRODID:-//RANCHMANS 23 - ECPv6.15.20//NONSGML v1.0//EN
CALSCALE:GREGORIAN
METHOD:PUBLISH
X-ORIGINAL-URL:https://ranchmans23.com
X-WR-CALDESC:Events for RANCHMANS 23
REFRESH-INTERVAL;VALUE=DURATION:PT1H
X-Robots-Tag:noindex
X-PUBLISHED-TTL:PT1H
BEGIN:VTIMEZONE
TZID:UTC
BEGIN:STANDARD
TZOFFSETFROM:+0000
TZOFFSETTO:+0000
TZNAME:UTC
DTSTART:20260101T000000
END:STANDARD
END:VTIMEZONE
BEGIN:VEVENT
DTSTART;TZID=UTC:20271123T183000
DTEND;TZID=UTC:20271123T183000
DTSTAMP:20260422T222725
CREATED:20250925T041927Z
LAST-MODIFIED:20250925T041927Z
UID:1838-1826994600-1826994600@ranchmans23.com
SUMMARY:Bingo
DESCRIPTION:
URL:https://ranchmans23.com/events/bingo/2027-11-23/
END:VEVENT
BEGIN:VEVENT
DTSTART;TZID=UTC:20271124T183000
DTEND;TZID=UTC:20271124T183000
DTSTAMP:20260422T222725
CREATED:20250925T042337Z
LAST-MODIFIED:20250925T042337Z
UID:1840-1827081000-1827081000@ranchmans23.com
SUMMARY:Bar Bingo
DESCRIPTION:
URL:https://ranchmans23.com/events/bar-bingo-2027-09-22/2027-11-24/
END:VEVENT
BEGIN:VEVENT
DTSTART;TZID=UTC:20271124T183000
DTEND;TZID=UTC:20271124T183000
DTSTAMP:20260422T222725
CREATED:20250925T042337Z
LAST-MODIFIED:20250925T042337Z
UID:1839-1827081000-1827081000@ranchmans23.com
SUMMARY:Bar Bingo
DESCRIPTION:
URL:https://ranchmans23.com/events/bar-bingo/2027-11-24/
END:VEVENT
BEGIN:VEVENT
DTSTART;TZID=UTC:20271130T183000
DTEND;TZID=UTC:20271130T183000
DTSTAMP:20260422T222725
CREATED:20250925T041927Z
LAST-MODIFIED:20250925T041927Z
UID:1841-1827599400-1827599400@ranchmans23.com
SUMMARY:Bingo
DESCRIPTION:
URL:https://ranchmans23.com/events/bingo/2027-11-30/
END:VEVENT
BEGIN:VEVENT
DTSTART;TZID=UTC:20271201T183000
DTEND;TZID=UTC:20271201T183000
DTSTAMP:20260422T222725
CREATED:20250925T042337Z
LAST-MODIFIED:20250925T042337Z
UID:1842-1827685800-1827685800@ranchmans23.com
SUMMARY:Bar Bingo
DESCRIPTION:
URL:https://ranchmans23.com/events/bar-bingo/2027-12-01/
END:VEVENT
BEGIN:VEVENT
DTSTART;TZID=UTC:20271201T183000
DTEND;TZID=UTC:20271201T183000
DTSTAMP:20260422T222725
CREATED:20250925T042337Z
LAST-MODIFIED:20250925T042337Z
UID:1843-1827685800-1827685800@ranchmans23.com
SUMMARY:Bar Bingo
DESCRIPTION:
URL:https://ranchmans23.com/events/bar-bingo-2027-09-22/2027-12-01/
END:VEVENT
BEGIN:VEVENT
DTSTART;TZID=UTC:20271207T183000
DTEND;TZID=UTC:20271207T183000
DTSTAMP:20260422T222725
CREATED:20250925T041927Z
LAST-MODIFIED:20250925T041927Z
UID:1844-1828204200-1828204200@ranchmans23.com
SUMMARY:Bingo
DESCRIPTION:
URL:https://ranchmans23.com/events/bingo/2027-12-07/
END:VEVENT
BEGIN:VEVENT
DTSTART;TZID=UTC:20271208T183000
DTEND;TZID=UTC:20271208T183000
DTSTAMP:20260422T222725
CREATED:20250925T042337Z
LAST-MODIFIED:20250925T042337Z
UID:1845-1828290600-1828290600@ranchmans23.com
SUMMARY:Bar Bingo
DESCRIPTION:
URL:https://ranchmans23.com/events/bar-bingo/2027-12-08/
END:VEVENT
BEGIN:VEVENT
DTSTART;TZID=UTC:20271208T183000
DTEND;TZID=UTC:20271208T183000
DTSTAMP:20260422T222725
CREATED:20250925T042337Z
LAST-MODIFIED:20250925T042337Z
UID:1846-1828290600-1828290600@ranchmans23.com
SUMMARY:Bar Bingo
DESCRIPTION:
URL:https://ranchmans23.com/events/bar-bingo-2027-09-22/2027-12-08/
END:VEVENT
BEGIN:VEVENT
DTSTART;TZID=UTC:20271214T183000
DTEND;TZID=UTC:20271214T183000
DTSTAMP:20260422T222725
CREATED:20250925T041927Z
LAST-MODIFIED:20250925T041927Z
UID:1847-1828809000-1828809000@ranchmans23.com
SUMMARY:Bingo
DESCRIPTION:
URL:https://ranchmans23.com/events/bingo/2027-12-14/
END:VEVENT
BEGIN:VEVENT
DTSTART;TZID=UTC:20271215T183000
DTEND;TZID=UTC:20271215T183000
DTSTAMP:20260422T222725
CREATED:20250925T042337Z
LAST-MODIFIED:20250925T042337Z
UID:1849-1828895400-1828895400@ranchmans23.com
SUMMARY:Bar Bingo
DESCRIPTION:
URL:https://ranchmans23.com/events/bar-bingo-2027-09-22/2027-12-15/
END:VEVENT
BEGIN:VEVENT
DTSTART;TZID=UTC:20271215T183000
DTEND;TZID=UTC:20271215T183000
DTSTAMP:20260422T222725
CREATED:20250925T042337Z
LAST-MODIFIED:20250925T042337Z
UID:1848-1828895400-1828895400@ranchmans23.com
SUMMARY:Bar Bingo
DESCRIPTION:
URL:https://ranchmans23.com/events/bar-bingo/2027-12-15/
END:VEVENT
BEGIN:VEVENT
DTSTART;TZID=UTC:20271221T183000
DTEND;TZID=UTC:20271221T183000
DTSTAMP:20260422T222725
CREATED:20250925T041927Z
LAST-MODIFIED:20250925T041927Z
UID:1850-1829413800-1829413800@ranchmans23.com
SUMMARY:Bingo
DESCRIPTION:
URL:https://ranchmans23.com/events/bingo/2027-12-21/
END:VEVENT
BEGIN:VEVENT
DTSTART;TZID=UTC:20271222T183000
DTEND;TZID=UTC:20271222T183000
DTSTAMP:20260422T222725
CREATED:20250925T042337Z
LAST-MODIFIED:20250925T042337Z
UID:1851-1829500200-1829500200@ranchmans23.com
SUMMARY:Bar Bingo
DESCRIPTION:
URL:https://ranchmans23.com/events/bar-bingo/2027-12-22/
END:VEVENT
BEGIN:VEVENT
DTSTART;TZID=UTC:20271222T183000
DTEND;TZID=UTC:20271222T183000
DTSTAMP:20260422T222725
CREATED:20250925T042337Z
LAST-MODIFIED:20250925T042337Z
UID:1852-1829500200-1829500200@ranchmans23.com
SUMMARY:Bar Bingo
DESCRIPTION:
URL:https://ranchmans23.com/events/bar-bingo-2027-09-22/2027-12-22/
END:VEVENT
BEGIN:VEVENT
DTSTART;TZID=UTC:20271228T183000
DTEND;TZID=UTC:20271228T183000
DTSTAMP:20260422T222725
CREATED:20250925T041927Z
LAST-MODIFIED:20250925T041927Z
UID:1853-1830018600-1830018600@ranchmans23.com
SUMMARY:Bingo
DESCRIPTION:
URL:https://ranchmans23.com/events/bingo/2027-12-28/
END:VEVENT
BEGIN:VEVENT
DTSTART;TZID=UTC:20271229T183000
DTEND;TZID=UTC:20271229T183000
DTSTAMP:20260422T222725
CREATED:20250925T042337Z
LAST-MODIFIED:20250925T042337Z
UID:1854-1830105000-1830105000@ranchmans23.com
SUMMARY:Bar Bingo
DESCRIPTION:
URL:https://ranchmans23.com/events/bar-bingo/2027-12-29/
END:VEVENT
BEGIN:VEVENT
DTSTART;TZID=UTC:20271229T183000
DTEND;TZID=UTC:20271229T183000
DTSTAMP:20260422T222725
CREATED:20250925T042337Z
LAST-MODIFIED:20250925T042337Z
UID:1855-1830105000-1830105000@ranchmans23.com
SUMMARY:Bar Bingo
DESCRIPTION:
URL:https://ranchmans23.com/events/bar-bingo-2027-09-22/2027-12-29/
END:VEVENT
BEGIN:VEVENT
DTSTART;TZID=UTC:20280104T183000
DTEND;TZID=UTC:20280104T183000
DTSTAMP:20260422T222725
CREATED:20250925T041927Z
LAST-MODIFIED:20250925T041927Z
UID:1856-1830623400-1830623400@ranchmans23.com
SUMMARY:Bingo
DESCRIPTION:
URL:https://ranchmans23.com/events/bingo/2028-01-04/
END:VEVENT
BEGIN:VEVENT
DTSTART;TZID=UTC:20280105T183000
DTEND;TZID=UTC:20280105T183000
DTSTAMP:20260422T222725
CREATED:20250925T042337Z
LAST-MODIFIED:20250925T042337Z
UID:1857-1830709800-1830709800@ranchmans23.com
SUMMARY:Bar Bingo
DESCRIPTION:
URL:https://ranchmans23.com/events/bar-bingo/2028-01-05/
END:VEVENT
BEGIN:VEVENT
DTSTART;TZID=UTC:20280105T183000
DTEND;TZID=UTC:20280105T183000
DTSTAMP:20260422T222725
CREATED:20250925T042337Z
LAST-MODIFIED:20250925T042337Z
UID:1858-1830709800-1830709800@ranchmans23.com
SUMMARY:Bar Bingo
DESCRIPTION:
URL:https://ranchmans23.com/events/bar-bingo-2027-09-22/2028-01-05/
END:VEVENT
BEGIN:VEVENT
DTSTART;TZID=UTC:20280111T183000
DTEND;TZID=UTC:20280111T183000
DTSTAMP:20260422T222725
CREATED:20250925T041927Z
LAST-MODIFIED:20250925T041927Z
UID:1859-1831228200-1831228200@ranchmans23.com
SUMMARY:Bingo
DESCRIPTION:
URL:https://ranchmans23.com/events/bingo/2028-01-11/
END:VEVENT
BEGIN:VEVENT
DTSTART;TZID=UTC:20280112T183000
DTEND;TZID=UTC:20280112T183000
DTSTAMP:20260422T222725
CREATED:20250925T042337Z
LAST-MODIFIED:20250925T042337Z
UID:1861-1831314600-1831314600@ranchmans23.com
SUMMARY:Bar Bingo
DESCRIPTION:
URL:https://ranchmans23.com/events/bar-bingo-2027-09-22/2028-01-12/
END:VEVENT
BEGIN:VEVENT
DTSTART;TZID=UTC:20280112T183000
DTEND;TZID=UTC:20280112T183000
DTSTAMP:20260422T222725
CREATED:20250925T042337Z
LAST-MODIFIED:20250925T042337Z
UID:1860-1831314600-1831314600@ranchmans23.com
SUMMARY:Bar Bingo
DESCRIPTION:
URL:https://ranchmans23.com/events/bar-bingo/2028-01-12/
END:VEVENT
BEGIN:VEVENT
DTSTART;TZID=UTC:20280118T183000
DTEND;TZID=UTC:20280118T183000
DTSTAMP:20260422T222725
CREATED:20250925T041927Z
LAST-MODIFIED:20250925T041927Z
UID:1862-1831833000-1831833000@ranchmans23.com
SUMMARY:Bingo
DESCRIPTION:
URL:https://ranchmans23.com/events/bingo/2028-01-18/
END:VEVENT
BEGIN:VEVENT
DTSTART;TZID=UTC:20280119T183000
DTEND;TZID=UTC:20280119T183000
DTSTAMP:20260422T222725
CREATED:20250925T042337Z
LAST-MODIFIED:20250925T042337Z
UID:1863-1831919400-1831919400@ranchmans23.com
SUMMARY:Bar Bingo
DESCRIPTION:
URL:https://ranchmans23.com/events/bar-bingo/2028-01-19/
END:VEVENT
BEGIN:VEVENT
DTSTART;TZID=UTC:20280119T183000
DTEND;TZID=UTC:20280119T183000
DTSTAMP:20260422T222725
CREATED:20250925T042337Z
LAST-MODIFIED:20250925T042337Z
UID:1864-1831919400-1831919400@ranchmans23.com
SUMMARY:Bar Bingo
DESCRIPTION:
URL:https://ranchmans23.com/events/bar-bingo-2027-09-22/2028-01-19/
END:VEVENT
BEGIN:VEVENT
DTSTART;TZID=UTC:20280125T183000
DTEND;TZID=UTC:20280125T183000
DTSTAMP:20260422T222725
CREATED:20250925T041927Z
LAST-MODIFIED:20250925T041927Z
UID:1865-1832437800-1832437800@ranchmans23.com
SUMMARY:Bingo
DESCRIPTION:
URL:https://ranchmans23.com/events/bingo/2028-01-25/
END:VEVENT
BEGIN:VEVENT
DTSTART;TZID=UTC:20280126T183000
DTEND;TZID=UTC:20280126T183000
DTSTAMP:20260422T222725
CREATED:20250925T042337Z
LAST-MODIFIED:20250925T042337Z
UID:1866-1832524200-1832524200@ranchmans23.com
SUMMARY:Bar Bingo
DESCRIPTION:
URL:https://ranchmans23.com/events/bar-bingo/2028-01-26/
END:VEVENT
BEGIN:VEVENT
DTSTART;TZID=UTC:20280126T183000
DTEND;TZID=UTC:20280126T183000
DTSTAMP:20260422T222725
CREATED:20250925T042337Z
LAST-MODIFIED:20250925T042337Z
UID:1867-1832524200-1832524200@ranchmans23.com
SUMMARY:Bar Bingo
DESCRIPTION:
URL:https://ranchmans23.com/events/bar-bingo-2027-09-22/2028-01-26/
END:VEVENT
END:VCALENDAR