BEGIN:VCALENDAR
VERSION:2.0
PRODID:-//RANCHMANS 23 - ECPv6.15.20//NONSGML v1.0//EN
CALSCALE:GREGORIAN
METHOD:PUBLISH
X-WR-CALNAME:RANCHMANS 23
X-ORIGINAL-URL:https://ranchmans23.com
X-WR-CALDESC:Events for RANCHMANS 23
REFRESH-INTERVAL;VALUE=DURATION:PT1H
X-Robots-Tag:noindex
X-PUBLISHED-TTL:PT1H
BEGIN:VTIMEZONE
TZID:UTC
BEGIN:STANDARD
TZOFFSETFROM:+0000
TZOFFSETTO:+0000
TZNAME:UTC
DTSTART:20240101T000000
END:STANDARD
END:VTIMEZONE
BEGIN:VEVENT
DTSTART;TZID=UTC:20260107T183000
DTEND;TZID=UTC:20260107T183000
DTSTAMP:20260422T010546
CREATED:20250925T042337Z
LAST-MODIFIED:20250925T042337Z
UID:1723-1767810600-1767810600@ranchmans23.com
SUMMARY:Bar Bingo
DESCRIPTION:
URL:https://ranchmans23.com/events/bar-bingo/2026-01-07/
END:VEVENT
BEGIN:VEVENT
DTSTART;TZID=UTC:20260106T183000
DTEND;TZID=UTC:20260106T183000
DTSTAMP:20260422T010546
CREATED:20250925T041927Z
LAST-MODIFIED:20250925T041927Z
UID:1615-1767724200-1767724200@ranchmans23.com
SUMMARY:Bingo
DESCRIPTION:
URL:https://ranchmans23.com/events/bingo/2026-01-06/
END:VEVENT
BEGIN:VEVENT
DTSTART;TZID=UTC:20251231T183000
DTEND;TZID=UTC:20251231T183000
DTSTAMP:20260422T010546
CREATED:20250925T042337Z
LAST-MODIFIED:20250925T042337Z
UID:1722-1767205800-1767205800@ranchmans23.com
SUMMARY:Bar Bingo
DESCRIPTION:
URL:https://ranchmans23.com/events/bar-bingo/2025-12-31/
END:VEVENT
BEGIN:VEVENT
DTSTART;TZID=UTC:20251230T183000
DTEND;TZID=UTC:20251230T183000
DTSTAMP:20260422T010546
CREATED:20250925T041927Z
LAST-MODIFIED:20250925T041927Z
UID:1614-1767119400-1767119400@ranchmans23.com
SUMMARY:Bingo
DESCRIPTION:
URL:https://ranchmans23.com/events/bingo/2025-12-30/
END:VEVENT
BEGIN:VEVENT
DTSTART;TZID=UTC:20251224T183000
DTEND;TZID=UTC:20251224T183000
DTSTAMP:20260422T010546
CREATED:20250925T042337Z
LAST-MODIFIED:20250925T042337Z
UID:1721-1766601000-1766601000@ranchmans23.com
SUMMARY:Bar Bingo
DESCRIPTION:
URL:https://ranchmans23.com/events/bar-bingo/2025-12-24/
END:VEVENT
BEGIN:VEVENT
DTSTART;TZID=UTC:20251223T183000
DTEND;TZID=UTC:20251223T183000
DTSTAMP:20260422T010546
CREATED:20250925T041927Z
LAST-MODIFIED:20250925T041927Z
UID:1613-1766514600-1766514600@ranchmans23.com
SUMMARY:Bingo
DESCRIPTION:
URL:https://ranchmans23.com/events/bingo/2025-12-23/
END:VEVENT
BEGIN:VEVENT
DTSTART;TZID=UTC:20251217T183000
DTEND;TZID=UTC:20251217T183000
DTSTAMP:20260422T010546
CREATED:20250925T042337Z
LAST-MODIFIED:20250925T042337Z
UID:1720-1765996200-1765996200@ranchmans23.com
SUMMARY:Bar Bingo
DESCRIPTION:
URL:https://ranchmans23.com/events/bar-bingo/2025-12-17/
END:VEVENT
BEGIN:VEVENT
DTSTART;TZID=UTC:20251216T183000
DTEND;TZID=UTC:20251216T183000
DTSTAMP:20260422T010546
CREATED:20250925T041927Z
LAST-MODIFIED:20250925T041927Z
UID:1612-1765909800-1765909800@ranchmans23.com
SUMMARY:Bingo
DESCRIPTION:
URL:https://ranchmans23.com/events/bingo/2025-12-16/
END:VEVENT
BEGIN:VEVENT
DTSTART;TZID=UTC:20251210T183000
DTEND;TZID=UTC:20251210T183000
DTSTAMP:20260422T010546
CREATED:20250925T042337Z
LAST-MODIFIED:20250925T042337Z
UID:1719-1765391400-1765391400@ranchmans23.com
SUMMARY:Bar Bingo
DESCRIPTION:
URL:https://ranchmans23.com/events/bar-bingo/2025-12-10/
END:VEVENT
BEGIN:VEVENT
DTSTART;TZID=UTC:20251209T183000
DTEND;TZID=UTC:20251209T183000
DTSTAMP:20260422T010546
CREATED:20250925T041927Z
LAST-MODIFIED:20250925T041927Z
UID:1611-1765305000-1765305000@ranchmans23.com
SUMMARY:Bingo
DESCRIPTION:
URL:https://ranchmans23.com/events/bingo/2025-12-09/
END:VEVENT
BEGIN:VEVENT
DTSTART;TZID=UTC:20251203T183000
DTEND;TZID=UTC:20251203T183000
DTSTAMP:20260422T010546
CREATED:20250925T042337Z
LAST-MODIFIED:20250925T042337Z
UID:1718-1764786600-1764786600@ranchmans23.com
SUMMARY:Bar Bingo
DESCRIPTION:
URL:https://ranchmans23.com/events/bar-bingo/2025-12-03/
END:VEVENT
BEGIN:VEVENT
DTSTART;TZID=UTC:20251202T183000
DTEND;TZID=UTC:20251202T183000
DTSTAMP:20260422T010546
CREATED:20250925T041927Z
LAST-MODIFIED:20250925T041927Z
UID:1610-1764700200-1764700200@ranchmans23.com
SUMMARY:Bingo
DESCRIPTION:
URL:https://ranchmans23.com/events/bingo/2025-12-02/
END:VEVENT
BEGIN:VEVENT
DTSTART;TZID=UTC:20251126T183000
DTEND;TZID=UTC:20251126T183000
DTSTAMP:20260422T010546
CREATED:20250925T042337Z
LAST-MODIFIED:20250925T042337Z
UID:1717-1764181800-1764181800@ranchmans23.com
SUMMARY:Bar Bingo
DESCRIPTION:
URL:https://ranchmans23.com/events/bar-bingo/2025-11-26/
END:VEVENT
BEGIN:VEVENT
DTSTART;TZID=UTC:20251125T183000
DTEND;TZID=UTC:20251125T183000
DTSTAMP:20260422T010546
CREATED:20250925T041927Z
LAST-MODIFIED:20250925T041927Z
UID:1609-1764095400-1764095400@ranchmans23.com
SUMMARY:Bingo
DESCRIPTION:
URL:https://ranchmans23.com/events/bingo/2025-11-25/
END:VEVENT
BEGIN:VEVENT
DTSTART;TZID=UTC:20251119T183000
DTEND;TZID=UTC:20251119T183000
DTSTAMP:20260422T010546
CREATED:20250925T042337Z
LAST-MODIFIED:20250925T042337Z
UID:1716-1763577000-1763577000@ranchmans23.com
SUMMARY:Bar Bingo
DESCRIPTION:
URL:https://ranchmans23.com/events/bar-bingo/2025-11-19/
END:VEVENT
BEGIN:VEVENT
DTSTART;TZID=UTC:20251118T183000
DTEND;TZID=UTC:20251118T183000
DTSTAMP:20260422T010546
CREATED:20250925T041927Z
LAST-MODIFIED:20250925T041927Z
UID:1608-1763490600-1763490600@ranchmans23.com
SUMMARY:Bingo
DESCRIPTION:
URL:https://ranchmans23.com/events/bingo/2025-11-18/
END:VEVENT
BEGIN:VEVENT
DTSTART;TZID=UTC:20251112T183000
DTEND;TZID=UTC:20251112T183000
DTSTAMP:20260422T010546
CREATED:20250925T042337Z
LAST-MODIFIED:20250925T042337Z
UID:1715-1762972200-1762972200@ranchmans23.com
SUMMARY:Bar Bingo
DESCRIPTION:
URL:https://ranchmans23.com/events/bar-bingo/2025-11-12/
END:VEVENT
BEGIN:VEVENT
DTSTART;TZID=UTC:20251111T183000
DTEND;TZID=UTC:20251111T183000
DTSTAMP:20260422T010546
CREATED:20250925T041927Z
LAST-MODIFIED:20250925T041927Z
UID:1607-1762885800-1762885800@ranchmans23.com
SUMMARY:Bingo
DESCRIPTION:
URL:https://ranchmans23.com/events/bingo/2025-11-11/
END:VEVENT
BEGIN:VEVENT
DTSTART;TZID=UTC:20251105T183000
DTEND;TZID=UTC:20251105T183000
DTSTAMP:20260422T010546
CREATED:20250925T042337Z
LAST-MODIFIED:20250925T042337Z
UID:1714-1762367400-1762367400@ranchmans23.com
SUMMARY:Bar Bingo
DESCRIPTION:
URL:https://ranchmans23.com/events/bar-bingo/2025-11-05/
END:VEVENT
BEGIN:VEVENT
DTSTART;TZID=UTC:20251104T183000
DTEND;TZID=UTC:20251104T183000
DTSTAMP:20260422T010546
CREATED:20250925T041927Z
LAST-MODIFIED:20250925T041927Z
UID:1606-1762281000-1762281000@ranchmans23.com
SUMMARY:Bingo
DESCRIPTION:
URL:https://ranchmans23.com/events/bingo/2025-11-04/
END:VEVENT
BEGIN:VEVENT
DTSTART;TZID=UTC:20251029T183000
DTEND;TZID=UTC:20251029T183000
DTSTAMP:20260422T010546
CREATED:20250925T042337Z
LAST-MODIFIED:20250925T042337Z
UID:1713-1761762600-1761762600@ranchmans23.com
SUMMARY:Bar Bingo
DESCRIPTION:
URL:https://ranchmans23.com/events/bar-bingo/2025-10-29/
END:VEVENT
BEGIN:VEVENT
DTSTART;TZID=UTC:20251028T183000
DTEND;TZID=UTC:20251028T183000
DTSTAMP:20260422T010546
CREATED:20250925T041927Z
LAST-MODIFIED:20250925T041927Z
UID:1605-1761676200-1761676200@ranchmans23.com
SUMMARY:Bingo
DESCRIPTION:
URL:https://ranchmans23.com/events/bingo/2025-10-28/
END:VEVENT
BEGIN:VEVENT
DTSTART;TZID=UTC:20251022T183000
DTEND;TZID=UTC:20251022T183000
DTSTAMP:20260422T010546
CREATED:20250925T042337Z
LAST-MODIFIED:20250925T042337Z
UID:1712-1761157800-1761157800@ranchmans23.com
SUMMARY:Bar Bingo
DESCRIPTION:
URL:https://ranchmans23.com/events/bar-bingo/2025-10-22/
END:VEVENT
BEGIN:VEVENT
DTSTART;TZID=UTC:20251021T183000
DTEND;TZID=UTC:20251021T183000
DTSTAMP:20260422T010546
CREATED:20250925T041927Z
LAST-MODIFIED:20250925T041927Z
UID:1604-1761071400-1761071400@ranchmans23.com
SUMMARY:Bingo
DESCRIPTION:
URL:https://ranchmans23.com/events/bingo/2025-10-21/
END:VEVENT
BEGIN:VEVENT
DTSTART;TZID=UTC:20251015T183000
DTEND;TZID=UTC:20251015T183000
DTSTAMP:20260422T010546
CREATED:20250925T042337Z
LAST-MODIFIED:20250925T042337Z
UID:1711-1760553000-1760553000@ranchmans23.com
SUMMARY:Bar Bingo
DESCRIPTION:
URL:https://ranchmans23.com/events/bar-bingo/2025-10-15/
END:VEVENT
BEGIN:VEVENT
DTSTART;TZID=UTC:20251014T183000
DTEND;TZID=UTC:20251014T183000
DTSTAMP:20260422T010546
CREATED:20250925T041927Z
LAST-MODIFIED:20250925T041927Z
UID:1603-1760466600-1760466600@ranchmans23.com
SUMMARY:Bingo
DESCRIPTION:
URL:https://ranchmans23.com/events/bingo/2025-10-14/
END:VEVENT
BEGIN:VEVENT
DTSTART;TZID=UTC:20251008T183000
DTEND;TZID=UTC:20251008T183000
DTSTAMP:20260422T010546
CREATED:20250925T042337Z
LAST-MODIFIED:20250925T042337Z
UID:1710-1759948200-1759948200@ranchmans23.com
SUMMARY:Bar Bingo
DESCRIPTION:
URL:https://ranchmans23.com/events/bar-bingo/2025-10-08/
END:VEVENT
BEGIN:VEVENT
DTSTART;TZID=UTC:20251007T183000
DTEND;TZID=UTC:20251007T183000
DTSTAMP:20260422T010546
CREATED:20250925T041927Z
LAST-MODIFIED:20250925T041927Z
UID:1602-1759861800-1759861800@ranchmans23.com
SUMMARY:Bingo
DESCRIPTION:
URL:https://ranchmans23.com/events/bingo/2025-10-07/
END:VEVENT
BEGIN:VEVENT
DTSTART;TZID=UTC:20251001T183000
DTEND;TZID=UTC:20251001T183000
DTSTAMP:20260422T010546
CREATED:20250925T042337Z
LAST-MODIFIED:20250925T042337Z
UID:1709-1759343400-1759343400@ranchmans23.com
SUMMARY:Bar Bingo
DESCRIPTION:
URL:https://ranchmans23.com/events/bar-bingo/2025-10-01/
END:VEVENT
BEGIN:VEVENT
DTSTART;TZID=UTC:20250930T183000
DTEND;TZID=UTC:20250930T183000
DTSTAMP:20260422T010546
CREATED:20250925T041927Z
LAST-MODIFIED:20250925T041927Z
UID:1601-1759257000-1759257000@ranchmans23.com
SUMMARY:Bingo
DESCRIPTION:
URL:https://ranchmans23.com/events/bingo/2025-09-30/
END:VEVENT
END:VCALENDAR