BEGIN:VCALENDAR
VERSION:2.0
PRODID:-//RANCHMANS 23 - ECPv6.15.20//NONSGML v1.0//EN
CALSCALE:GREGORIAN
METHOD:PUBLISH
X-ORIGINAL-URL:https://ranchmans23.com
X-WR-CALDESC:Events for RANCHMANS 23
REFRESH-INTERVAL;VALUE=DURATION:PT1H
X-Robots-Tag:noindex
X-PUBLISHED-TTL:PT1H
BEGIN:VTIMEZONE
TZID:UTC
BEGIN:STANDARD
TZOFFSETFROM:+0000
TZOFFSETTO:+0000
TZNAME:UTC
DTSTART:20250101T000000
END:STANDARD
END:VTIMEZONE
BEGIN:VEVENT
DTSTART;TZID=UTC:20260609T183000
DTEND;TZID=UTC:20260609T183000
DTSTAMP:20260421T215311
CREATED:20250925T041927Z
LAST-MODIFIED:20250925T041927Z
UID:1637-1781029800-1781029800@ranchmans23.com
SUMMARY:Bingo
DESCRIPTION:
URL:https://ranchmans23.com/events/bingo/2026-06-09/
END:VEVENT
BEGIN:VEVENT
DTSTART;TZID=UTC:20260610T183000
DTEND;TZID=UTC:20260610T183000
DTSTAMP:20260421T215311
CREATED:20250925T042337Z
LAST-MODIFIED:20250925T042337Z
UID:1745-1781116200-1781116200@ranchmans23.com
SUMMARY:Bar Bingo
DESCRIPTION:
URL:https://ranchmans23.com/events/bar-bingo/2026-06-10/
END:VEVENT
BEGIN:VEVENT
DTSTART;TZID=UTC:20260616T183000
DTEND;TZID=UTC:20260616T183000
DTSTAMP:20260421T215311
CREATED:20250925T041927Z
LAST-MODIFIED:20250925T041927Z
UID:1638-1781634600-1781634600@ranchmans23.com
SUMMARY:Bingo
DESCRIPTION:
URL:https://ranchmans23.com/events/bingo/2026-06-16/
END:VEVENT
BEGIN:VEVENT
DTSTART;TZID=UTC:20260617T183000
DTEND;TZID=UTC:20260617T183000
DTSTAMP:20260421T215311
CREATED:20250925T042337Z
LAST-MODIFIED:20250925T042337Z
UID:1746-1781721000-1781721000@ranchmans23.com
SUMMARY:Bar Bingo
DESCRIPTION:
URL:https://ranchmans23.com/events/bar-bingo/2026-06-17/
END:VEVENT
BEGIN:VEVENT
DTSTART;TZID=UTC:20260623T183000
DTEND;TZID=UTC:20260623T183000
DTSTAMP:20260421T215311
CREATED:20250925T041927Z
LAST-MODIFIED:20250925T041927Z
UID:1639-1782239400-1782239400@ranchmans23.com
SUMMARY:Bingo
DESCRIPTION:
URL:https://ranchmans23.com/events/bingo/2026-06-23/
END:VEVENT
BEGIN:VEVENT
DTSTART;TZID=UTC:20260624T183000
DTEND;TZID=UTC:20260624T183000
DTSTAMP:20260421T215311
CREATED:20250925T042337Z
LAST-MODIFIED:20250925T042337Z
UID:1747-1782325800-1782325800@ranchmans23.com
SUMMARY:Bar Bingo
DESCRIPTION:
URL:https://ranchmans23.com/events/bar-bingo/2026-06-24/
END:VEVENT
BEGIN:VEVENT
DTSTART;TZID=UTC:20260630T183000
DTEND;TZID=UTC:20260630T183000
DTSTAMP:20260421T215311
CREATED:20250925T041927Z
LAST-MODIFIED:20250925T041927Z
UID:1640-1782844200-1782844200@ranchmans23.com
SUMMARY:Bingo
DESCRIPTION:
URL:https://ranchmans23.com/events/bingo/2026-06-30/
END:VEVENT
BEGIN:VEVENT
DTSTART;TZID=UTC:20260701T183000
DTEND;TZID=UTC:20260701T183000
DTSTAMP:20260421T215311
CREATED:20250925T042337Z
LAST-MODIFIED:20250925T042337Z
UID:1748-1782930600-1782930600@ranchmans23.com
SUMMARY:Bar Bingo
DESCRIPTION:
URL:https://ranchmans23.com/events/bar-bingo/2026-07-01/
END:VEVENT
BEGIN:VEVENT
DTSTART;TZID=UTC:20260707T183000
DTEND;TZID=UTC:20260707T183000
DTSTAMP:20260421T215311
CREATED:20250925T041927Z
LAST-MODIFIED:20250925T041927Z
UID:1641-1783449000-1783449000@ranchmans23.com
SUMMARY:Bingo
DESCRIPTION:
URL:https://ranchmans23.com/events/bingo/2026-07-07/
END:VEVENT
BEGIN:VEVENT
DTSTART;TZID=UTC:20260708T183000
DTEND;TZID=UTC:20260708T183000
DTSTAMP:20260421T215311
CREATED:20250925T042337Z
LAST-MODIFIED:20250925T042337Z
UID:1749-1783535400-1783535400@ranchmans23.com
SUMMARY:Bar Bingo
DESCRIPTION:
URL:https://ranchmans23.com/events/bar-bingo/2026-07-08/
END:VEVENT
BEGIN:VEVENT
DTSTART;TZID=UTC:20260714T183000
DTEND;TZID=UTC:20260714T183000
DTSTAMP:20260421T215311
CREATED:20250925T041927Z
LAST-MODIFIED:20250925T041927Z
UID:1642-1784053800-1784053800@ranchmans23.com
SUMMARY:Bingo
DESCRIPTION:
URL:https://ranchmans23.com/events/bingo/2026-07-14/
END:VEVENT
BEGIN:VEVENT
DTSTART;TZID=UTC:20260715T183000
DTEND;TZID=UTC:20260715T183000
DTSTAMP:20260421T215311
CREATED:20250925T042337Z
LAST-MODIFIED:20250925T042337Z
UID:1750-1784140200-1784140200@ranchmans23.com
SUMMARY:Bar Bingo
DESCRIPTION:
URL:https://ranchmans23.com/events/bar-bingo/2026-07-15/
END:VEVENT
BEGIN:VEVENT
DTSTART;TZID=UTC:20260721T183000
DTEND;TZID=UTC:20260721T183000
DTSTAMP:20260421T215311
CREATED:20250925T041927Z
LAST-MODIFIED:20250925T041927Z
UID:1643-1784658600-1784658600@ranchmans23.com
SUMMARY:Bingo
DESCRIPTION:
URL:https://ranchmans23.com/events/bingo/2026-07-21/
END:VEVENT
BEGIN:VEVENT
DTSTART;TZID=UTC:20260722T183000
DTEND;TZID=UTC:20260722T183000
DTSTAMP:20260421T215311
CREATED:20250925T042337Z
LAST-MODIFIED:20250925T042337Z
UID:1751-1784745000-1784745000@ranchmans23.com
SUMMARY:Bar Bingo
DESCRIPTION:
URL:https://ranchmans23.com/events/bar-bingo/2026-07-22/
END:VEVENT
BEGIN:VEVENT
DTSTART;TZID=UTC:20260728T183000
DTEND;TZID=UTC:20260728T183000
DTSTAMP:20260421T215311
CREATED:20250925T041927Z
LAST-MODIFIED:20250925T041927Z
UID:1644-1785263400-1785263400@ranchmans23.com
SUMMARY:Bingo
DESCRIPTION:
URL:https://ranchmans23.com/events/bingo/2026-07-28/
END:VEVENT
BEGIN:VEVENT
DTSTART;TZID=UTC:20260729T183000
DTEND;TZID=UTC:20260729T183000
DTSTAMP:20260421T215311
CREATED:20250925T042337Z
LAST-MODIFIED:20250925T042337Z
UID:1752-1785349800-1785349800@ranchmans23.com
SUMMARY:Bar Bingo
DESCRIPTION:
URL:https://ranchmans23.com/events/bar-bingo/2026-07-29/
END:VEVENT
BEGIN:VEVENT
DTSTART;TZID=UTC:20260804T183000
DTEND;TZID=UTC:20260804T183000
DTSTAMP:20260421T215311
CREATED:20250925T041927Z
LAST-MODIFIED:20250925T041927Z
UID:1645-1785868200-1785868200@ranchmans23.com
SUMMARY:Bingo
DESCRIPTION:
URL:https://ranchmans23.com/events/bingo/2026-08-04/
END:VEVENT
BEGIN:VEVENT
DTSTART;TZID=UTC:20260805T183000
DTEND;TZID=UTC:20260805T183000
DTSTAMP:20260421T215311
CREATED:20250925T042337Z
LAST-MODIFIED:20250925T042337Z
UID:1753-1785954600-1785954600@ranchmans23.com
SUMMARY:Bar Bingo
DESCRIPTION:
URL:https://ranchmans23.com/events/bar-bingo/2026-08-05/
END:VEVENT
BEGIN:VEVENT
DTSTART;TZID=UTC:20260811T183000
DTEND;TZID=UTC:20260811T183000
DTSTAMP:20260421T215311
CREATED:20250925T041927Z
LAST-MODIFIED:20250925T041927Z
UID:1646-1786473000-1786473000@ranchmans23.com
SUMMARY:Bingo
DESCRIPTION:
URL:https://ranchmans23.com/events/bingo/2026-08-11/
END:VEVENT
BEGIN:VEVENT
DTSTART;TZID=UTC:20260812T183000
DTEND;TZID=UTC:20260812T183000
DTSTAMP:20260421T215311
CREATED:20250925T042337Z
LAST-MODIFIED:20250925T042337Z
UID:1754-1786559400-1786559400@ranchmans23.com
SUMMARY:Bar Bingo
DESCRIPTION:
URL:https://ranchmans23.com/events/bar-bingo/2026-08-12/
END:VEVENT
BEGIN:VEVENT
DTSTART;TZID=UTC:20260818T183000
DTEND;TZID=UTC:20260818T183000
DTSTAMP:20260421T215311
CREATED:20250925T041927Z
LAST-MODIFIED:20250925T041927Z
UID:1647-1787077800-1787077800@ranchmans23.com
SUMMARY:Bingo
DESCRIPTION:
URL:https://ranchmans23.com/events/bingo/2026-08-18/
END:VEVENT
BEGIN:VEVENT
DTSTART;TZID=UTC:20260819T183000
DTEND;TZID=UTC:20260819T183000
DTSTAMP:20260421T215311
CREATED:20250925T042337Z
LAST-MODIFIED:20250925T042337Z
UID:1755-1787164200-1787164200@ranchmans23.com
SUMMARY:Bar Bingo
DESCRIPTION:
URL:https://ranchmans23.com/events/bar-bingo/2026-08-19/
END:VEVENT
BEGIN:VEVENT
DTSTART;TZID=UTC:20260825T183000
DTEND;TZID=UTC:20260825T183000
DTSTAMP:20260421T215311
CREATED:20250925T041927Z
LAST-MODIFIED:20250925T041927Z
UID:1648-1787682600-1787682600@ranchmans23.com
SUMMARY:Bingo
DESCRIPTION:
URL:https://ranchmans23.com/events/bingo/2026-08-25/
END:VEVENT
BEGIN:VEVENT
DTSTART;TZID=UTC:20260826T183000
DTEND;TZID=UTC:20260826T183000
DTSTAMP:20260421T215311
CREATED:20250925T042337Z
LAST-MODIFIED:20250925T042337Z
UID:1756-1787769000-1787769000@ranchmans23.com
SUMMARY:Bar Bingo
DESCRIPTION:
URL:https://ranchmans23.com/events/bar-bingo/2026-08-26/
END:VEVENT
BEGIN:VEVENT
DTSTART;TZID=UTC:20260901T183000
DTEND;TZID=UTC:20260901T183000
DTSTAMP:20260421T215311
CREATED:20250925T041927Z
LAST-MODIFIED:20250925T041927Z
UID:1649-1788287400-1788287400@ranchmans23.com
SUMMARY:Bingo
DESCRIPTION:
URL:https://ranchmans23.com/events/bingo/2026-09-01/
END:VEVENT
BEGIN:VEVENT
DTSTART;TZID=UTC:20260902T183000
DTEND;TZID=UTC:20260902T183000
DTSTAMP:20260421T215311
CREATED:20250925T042337Z
LAST-MODIFIED:20250925T042337Z
UID:1757-1788373800-1788373800@ranchmans23.com
SUMMARY:Bar Bingo
DESCRIPTION:
URL:https://ranchmans23.com/events/bar-bingo/2026-09-02/
END:VEVENT
BEGIN:VEVENT
DTSTART;TZID=UTC:20260908T183000
DTEND;TZID=UTC:20260908T183000
DTSTAMP:20260421T215311
CREATED:20250925T041927Z
LAST-MODIFIED:20250925T041927Z
UID:1650-1788892200-1788892200@ranchmans23.com
SUMMARY:Bingo
DESCRIPTION:
URL:https://ranchmans23.com/events/bingo/2026-09-08/
END:VEVENT
BEGIN:VEVENT
DTSTART;TZID=UTC:20260909T183000
DTEND;TZID=UTC:20260909T183000
DTSTAMP:20260421T215311
CREATED:20250925T042337Z
LAST-MODIFIED:20250925T042337Z
UID:1758-1788978600-1788978600@ranchmans23.com
SUMMARY:Bar Bingo
DESCRIPTION:
URL:https://ranchmans23.com/events/bar-bingo/2026-09-09/
END:VEVENT
BEGIN:VEVENT
DTSTART;TZID=UTC:20260915T183000
DTEND;TZID=UTC:20260915T183000
DTSTAMP:20260421T215311
CREATED:20250925T041927Z
LAST-MODIFIED:20250925T041927Z
UID:1651-1789497000-1789497000@ranchmans23.com
SUMMARY:Bingo
DESCRIPTION:
URL:https://ranchmans23.com/events/bingo/2026-09-15/
END:VEVENT
BEGIN:VEVENT
DTSTART;TZID=UTC:20260916T183000
DTEND;TZID=UTC:20260916T183000
DTSTAMP:20260421T215311
CREATED:20250925T042337Z
LAST-MODIFIED:20250925T042337Z
UID:1759-1789583400-1789583400@ranchmans23.com
SUMMARY:Bar Bingo
DESCRIPTION:
URL:https://ranchmans23.com/events/bar-bingo/2026-09-16/
END:VEVENT
END:VCALENDAR