BEGIN:VCALENDAR
VERSION:2.0
PRODID:-//RANCHMANS 23 - ECPv6.15.20//NONSGML v1.0//EN
CALSCALE:GREGORIAN
METHOD:PUBLISH
X-ORIGINAL-URL:https://ranchmans23.com
X-WR-CALDESC:Events for RANCHMANS 23
REFRESH-INTERVAL;VALUE=DURATION:PT1H
X-Robots-Tag:noindex
X-PUBLISHED-TTL:PT1H
BEGIN:VTIMEZONE
TZID:UTC
BEGIN:STANDARD
TZOFFSETFROM:+0000
TZOFFSETTO:+0000
TZNAME:UTC
DTSTART:20250101T000000
END:STANDARD
END:VTIMEZONE
BEGIN:VEVENT
DTSTART;TZID=UTC:20260331T183000
DTEND;TZID=UTC:20260331T183000
DTSTAMP:20260421T121930
CREATED:20250925T041927Z
LAST-MODIFIED:20250925T041927Z
UID:1627-1774981800-1774981800@ranchmans23.com
SUMMARY:Bingo
DESCRIPTION:
URL:https://ranchmans23.com/events/bingo/2026-03-31/
END:VEVENT
BEGIN:VEVENT
DTSTART;TZID=UTC:20260401T183000
DTEND;TZID=UTC:20260401T183000
DTSTAMP:20260421T121930
CREATED:20250925T042337Z
LAST-MODIFIED:20250925T042337Z
UID:1735-1775068200-1775068200@ranchmans23.com
SUMMARY:Bar Bingo
DESCRIPTION:
URL:https://ranchmans23.com/events/bar-bingo/2026-04-01/
END:VEVENT
BEGIN:VEVENT
DTSTART;TZID=UTC:20260407T183000
DTEND;TZID=UTC:20260407T183000
DTSTAMP:20260421T121930
CREATED:20250925T041927Z
LAST-MODIFIED:20250925T041927Z
UID:1628-1775586600-1775586600@ranchmans23.com
SUMMARY:Bingo
DESCRIPTION:
URL:https://ranchmans23.com/events/bingo/2026-04-07/
END:VEVENT
BEGIN:VEVENT
DTSTART;TZID=UTC:20260408T183000
DTEND;TZID=UTC:20260408T183000
DTSTAMP:20260421T121930
CREATED:20250925T042337Z
LAST-MODIFIED:20250925T042337Z
UID:1736-1775673000-1775673000@ranchmans23.com
SUMMARY:Bar Bingo
DESCRIPTION:
URL:https://ranchmans23.com/events/bar-bingo/2026-04-08/
END:VEVENT
BEGIN:VEVENT
DTSTART;TZID=UTC:20260414T183000
DTEND;TZID=UTC:20260414T183000
DTSTAMP:20260421T121930
CREATED:20250925T041927Z
LAST-MODIFIED:20250925T041927Z
UID:1629-1776191400-1776191400@ranchmans23.com
SUMMARY:Bingo
DESCRIPTION:
URL:https://ranchmans23.com/events/bingo/2026-04-14/
END:VEVENT
BEGIN:VEVENT
DTSTART;TZID=UTC:20260415T183000
DTEND;TZID=UTC:20260415T183000
DTSTAMP:20260421T121930
CREATED:20250925T042337Z
LAST-MODIFIED:20250925T042337Z
UID:1737-1776277800-1776277800@ranchmans23.com
SUMMARY:Bar Bingo
DESCRIPTION:
URL:https://ranchmans23.com/events/bar-bingo/2026-04-15/
END:VEVENT
BEGIN:VEVENT
DTSTART;TZID=UTC:20260421T183000
DTEND;TZID=UTC:20260421T183000
DTSTAMP:20260421T121930
CREATED:20250925T041927Z
LAST-MODIFIED:20250925T041927Z
UID:1630-1776796200-1776796200@ranchmans23.com
SUMMARY:Bingo
DESCRIPTION:
URL:https://ranchmans23.com/events/bingo/2026-04-21/
END:VEVENT
BEGIN:VEVENT
DTSTART;TZID=UTC:20260422T183000
DTEND;TZID=UTC:20260422T183000
DTSTAMP:20260421T121930
CREATED:20250925T042337Z
LAST-MODIFIED:20250925T042337Z
UID:1738-1776882600-1776882600@ranchmans23.com
SUMMARY:Bar Bingo
DESCRIPTION:
URL:https://ranchmans23.com/events/bar-bingo/2026-04-22/
END:VEVENT
BEGIN:VEVENT
DTSTART;TZID=UTC:20260428T183000
DTEND;TZID=UTC:20260428T183000
DTSTAMP:20260421T121930
CREATED:20250925T041927Z
LAST-MODIFIED:20250925T041927Z
UID:1631-1777401000-1777401000@ranchmans23.com
SUMMARY:Bingo
DESCRIPTION:
URL:https://ranchmans23.com/events/bingo/2026-04-28/
END:VEVENT
BEGIN:VEVENT
DTSTART;TZID=UTC:20260429T183000
DTEND;TZID=UTC:20260429T183000
DTSTAMP:20260421T121930
CREATED:20250925T042337Z
LAST-MODIFIED:20250925T042337Z
UID:1739-1777487400-1777487400@ranchmans23.com
SUMMARY:Bar Bingo
DESCRIPTION:
URL:https://ranchmans23.com/events/bar-bingo/2026-04-29/
END:VEVENT
BEGIN:VEVENT
DTSTART;TZID=UTC:20260505T183000
DTEND;TZID=UTC:20260505T183000
DTSTAMP:20260421T121930
CREATED:20250925T041927Z
LAST-MODIFIED:20250925T041927Z
UID:1632-1778005800-1778005800@ranchmans23.com
SUMMARY:Bingo
DESCRIPTION:
URL:https://ranchmans23.com/events/bingo/2026-05-05/
END:VEVENT
BEGIN:VEVENT
DTSTART;TZID=UTC:20260506T183000
DTEND;TZID=UTC:20260506T183000
DTSTAMP:20260421T121930
CREATED:20250925T042337Z
LAST-MODIFIED:20250925T042337Z
UID:1740-1778092200-1778092200@ranchmans23.com
SUMMARY:Bar Bingo
DESCRIPTION:
URL:https://ranchmans23.com/events/bar-bingo/2026-05-06/
END:VEVENT
BEGIN:VEVENT
DTSTART;TZID=UTC:20260512T183000
DTEND;TZID=UTC:20260512T183000
DTSTAMP:20260421T121930
CREATED:20250925T041927Z
LAST-MODIFIED:20250925T041927Z
UID:1633-1778610600-1778610600@ranchmans23.com
SUMMARY:Bingo
DESCRIPTION:
URL:https://ranchmans23.com/events/bingo/2026-05-12/
END:VEVENT
BEGIN:VEVENT
DTSTART;TZID=UTC:20260513T183000
DTEND;TZID=UTC:20260513T183000
DTSTAMP:20260421T121930
CREATED:20250925T042337Z
LAST-MODIFIED:20250925T042337Z
UID:1741-1778697000-1778697000@ranchmans23.com
SUMMARY:Bar Bingo
DESCRIPTION:
URL:https://ranchmans23.com/events/bar-bingo/2026-05-13/
END:VEVENT
BEGIN:VEVENT
DTSTART;TZID=UTC:20260519T183000
DTEND;TZID=UTC:20260519T183000
DTSTAMP:20260421T121930
CREATED:20250925T041927Z
LAST-MODIFIED:20250925T041927Z
UID:1634-1779215400-1779215400@ranchmans23.com
SUMMARY:Bingo
DESCRIPTION:
URL:https://ranchmans23.com/events/bingo/2026-05-19/
END:VEVENT
BEGIN:VEVENT
DTSTART;TZID=UTC:20260520T183000
DTEND;TZID=UTC:20260520T183000
DTSTAMP:20260421T121930
CREATED:20250925T042337Z
LAST-MODIFIED:20250925T042337Z
UID:1742-1779301800-1779301800@ranchmans23.com
SUMMARY:Bar Bingo
DESCRIPTION:
URL:https://ranchmans23.com/events/bar-bingo/2026-05-20/
END:VEVENT
BEGIN:VEVENT
DTSTART;TZID=UTC:20260526T183000
DTEND;TZID=UTC:20260526T183000
DTSTAMP:20260421T121930
CREATED:20250925T041927Z
LAST-MODIFIED:20250925T041927Z
UID:1635-1779820200-1779820200@ranchmans23.com
SUMMARY:Bingo
DESCRIPTION:
URL:https://ranchmans23.com/events/bingo/2026-05-26/
END:VEVENT
BEGIN:VEVENT
DTSTART;TZID=UTC:20260527T183000
DTEND;TZID=UTC:20260527T183000
DTSTAMP:20260421T121930
CREATED:20250925T042337Z
LAST-MODIFIED:20250925T042337Z
UID:1743-1779906600-1779906600@ranchmans23.com
SUMMARY:Bar Bingo
DESCRIPTION:
URL:https://ranchmans23.com/events/bar-bingo/2026-05-27/
END:VEVENT
BEGIN:VEVENT
DTSTART;TZID=UTC:20260602T183000
DTEND;TZID=UTC:20260602T183000
DTSTAMP:20260421T121930
CREATED:20250925T041927Z
LAST-MODIFIED:20250925T041927Z
UID:1636-1780425000-1780425000@ranchmans23.com
SUMMARY:Bingo
DESCRIPTION:
URL:https://ranchmans23.com/events/bingo/2026-06-02/
END:VEVENT
BEGIN:VEVENT
DTSTART;TZID=UTC:20260603T183000
DTEND;TZID=UTC:20260603T183000
DTSTAMP:20260421T121930
CREATED:20250925T042337Z
LAST-MODIFIED:20250925T042337Z
UID:1744-1780511400-1780511400@ranchmans23.com
SUMMARY:Bar Bingo
DESCRIPTION:
URL:https://ranchmans23.com/events/bar-bingo/2026-06-03/
END:VEVENT
BEGIN:VEVENT
DTSTART;TZID=UTC:20260609T183000
DTEND;TZID=UTC:20260609T183000
DTSTAMP:20260421T121930
CREATED:20250925T041927Z
LAST-MODIFIED:20250925T041927Z
UID:1637-1781029800-1781029800@ranchmans23.com
SUMMARY:Bingo
DESCRIPTION:
URL:https://ranchmans23.com/events/bingo/2026-06-09/
END:VEVENT
BEGIN:VEVENT
DTSTART;TZID=UTC:20260610T183000
DTEND;TZID=UTC:20260610T183000
DTSTAMP:20260421T121930
CREATED:20250925T042337Z
LAST-MODIFIED:20250925T042337Z
UID:1745-1781116200-1781116200@ranchmans23.com
SUMMARY:Bar Bingo
DESCRIPTION:
URL:https://ranchmans23.com/events/bar-bingo/2026-06-10/
END:VEVENT
BEGIN:VEVENT
DTSTART;TZID=UTC:20260616T183000
DTEND;TZID=UTC:20260616T183000
DTSTAMP:20260421T121930
CREATED:20250925T041927Z
LAST-MODIFIED:20250925T041927Z
UID:1638-1781634600-1781634600@ranchmans23.com
SUMMARY:Bingo
DESCRIPTION:
URL:https://ranchmans23.com/events/bingo/2026-06-16/
END:VEVENT
BEGIN:VEVENT
DTSTART;TZID=UTC:20260617T183000
DTEND;TZID=UTC:20260617T183000
DTSTAMP:20260421T121930
CREATED:20250925T042337Z
LAST-MODIFIED:20250925T042337Z
UID:1746-1781721000-1781721000@ranchmans23.com
SUMMARY:Bar Bingo
DESCRIPTION:
URL:https://ranchmans23.com/events/bar-bingo/2026-06-17/
END:VEVENT
BEGIN:VEVENT
DTSTART;TZID=UTC:20260623T183000
DTEND;TZID=UTC:20260623T183000
DTSTAMP:20260421T121930
CREATED:20250925T041927Z
LAST-MODIFIED:20250925T041927Z
UID:1639-1782239400-1782239400@ranchmans23.com
SUMMARY:Bingo
DESCRIPTION:
URL:https://ranchmans23.com/events/bingo/2026-06-23/
END:VEVENT
BEGIN:VEVENT
DTSTART;TZID=UTC:20260624T183000
DTEND;TZID=UTC:20260624T183000
DTSTAMP:20260421T121930
CREATED:20250925T042337Z
LAST-MODIFIED:20250925T042337Z
UID:1747-1782325800-1782325800@ranchmans23.com
SUMMARY:Bar Bingo
DESCRIPTION:
URL:https://ranchmans23.com/events/bar-bingo/2026-06-24/
END:VEVENT
BEGIN:VEVENT
DTSTART;TZID=UTC:20260630T183000
DTEND;TZID=UTC:20260630T183000
DTSTAMP:20260421T121930
CREATED:20250925T041927Z
LAST-MODIFIED:20250925T041927Z
UID:1640-1782844200-1782844200@ranchmans23.com
SUMMARY:Bingo
DESCRIPTION:
URL:https://ranchmans23.com/events/bingo/2026-06-30/
END:VEVENT
BEGIN:VEVENT
DTSTART;TZID=UTC:20260701T183000
DTEND;TZID=UTC:20260701T183000
DTSTAMP:20260421T121930
CREATED:20250925T042337Z
LAST-MODIFIED:20250925T042337Z
UID:1748-1782930600-1782930600@ranchmans23.com
SUMMARY:Bar Bingo
DESCRIPTION:
URL:https://ranchmans23.com/events/bar-bingo/2026-07-01/
END:VEVENT
BEGIN:VEVENT
DTSTART;TZID=UTC:20260707T183000
DTEND;TZID=UTC:20260707T183000
DTSTAMP:20260421T121930
CREATED:20250925T041927Z
LAST-MODIFIED:20250925T041927Z
UID:1641-1783449000-1783449000@ranchmans23.com
SUMMARY:Bingo
DESCRIPTION:
URL:https://ranchmans23.com/events/bingo/2026-07-07/
END:VEVENT
BEGIN:VEVENT
DTSTART;TZID=UTC:20260708T183000
DTEND;TZID=UTC:20260708T183000
DTSTAMP:20260421T121930
CREATED:20250925T042337Z
LAST-MODIFIED:20250925T042337Z
UID:1749-1783535400-1783535400@ranchmans23.com
SUMMARY:Bar Bingo
DESCRIPTION:
URL:https://ranchmans23.com/events/bar-bingo/2026-07-08/
END:VEVENT
END:VCALENDAR