BEGIN:VCALENDAR
VERSION:2.0
PRODID:-//RANCHMANS 23 - ECPv6.15.20//NONSGML v1.0//EN
CALSCALE:GREGORIAN
METHOD:PUBLISH
X-WR-CALNAME:RANCHMANS 23
X-ORIGINAL-URL:https://ranchmans23.com
X-WR-CALDESC:Events for RANCHMANS 23
REFRESH-INTERVAL;VALUE=DURATION:PT1H
X-Robots-Tag:noindex
X-PUBLISHED-TTL:PT1H
BEGIN:VTIMEZONE
TZID:UTC
BEGIN:STANDARD
TZOFFSETFROM:+0000
TZOFFSETTO:+0000
TZNAME:UTC
DTSTART:20270101T000000
END:STANDARD
END:VTIMEZONE
BEGIN:VEVENT
DTSTART;TZID=UTC:20280223T183000
DTEND;TZID=UTC:20280223T183000
DTSTAMP:20260422T225212
CREATED:20250925T042337Z
LAST-MODIFIED:20250925T042337Z
UID:1879-1834943400-1834943400@ranchmans23.com
SUMMARY:Bar Bingo
DESCRIPTION:
URL:https://ranchmans23.com/events/bar-bingo-2027-09-22/2028-02-23/
END:VEVENT
BEGIN:VEVENT
DTSTART;TZID=UTC:20280229T183000
DTEND;TZID=UTC:20280229T183000
DTSTAMP:20260422T225212
CREATED:20250925T041927Z
LAST-MODIFIED:20250925T041927Z
UID:1880-1835461800-1835461800@ranchmans23.com
SUMMARY:Bingo
DESCRIPTION:
URL:https://ranchmans23.com/events/bingo/2028-02-29/
END:VEVENT
BEGIN:VEVENT
DTSTART;TZID=UTC:20280301T183000
DTEND;TZID=UTC:20280301T183000
DTSTAMP:20260422T225212
CREATED:20250925T042337Z
LAST-MODIFIED:20250925T042337Z
UID:1881-1835548200-1835548200@ranchmans23.com
SUMMARY:Bar Bingo
DESCRIPTION:
URL:https://ranchmans23.com/events/bar-bingo/2028-03-01/
END:VEVENT
BEGIN:VEVENT
DTSTART;TZID=UTC:20280301T183000
DTEND;TZID=UTC:20280301T183000
DTSTAMP:20260422T225212
CREATED:20250925T042337Z
LAST-MODIFIED:20250925T042337Z
UID:1882-1835548200-1835548200@ranchmans23.com
SUMMARY:Bar Bingo
DESCRIPTION:
URL:https://ranchmans23.com/events/bar-bingo-2027-09-22/2028-03-01/
END:VEVENT
BEGIN:VEVENT
DTSTART;TZID=UTC:20280307T183000
DTEND;TZID=UTC:20280307T183000
DTSTAMP:20260422T225212
CREATED:20250925T041927Z
LAST-MODIFIED:20250925T041927Z
UID:1883-1836066600-1836066600@ranchmans23.com
SUMMARY:Bingo
DESCRIPTION:
URL:https://ranchmans23.com/events/bingo/2028-03-07/
END:VEVENT
BEGIN:VEVENT
DTSTART;TZID=UTC:20280308T183000
DTEND;TZID=UTC:20280308T183000
DTSTAMP:20260422T225212
CREATED:20250925T042337Z
LAST-MODIFIED:20250925T042337Z
UID:1884-1836153000-1836153000@ranchmans23.com
SUMMARY:Bar Bingo
DESCRIPTION:
URL:https://ranchmans23.com/events/bar-bingo/2028-03-08/
END:VEVENT
BEGIN:VEVENT
DTSTART;TZID=UTC:20280308T183000
DTEND;TZID=UTC:20280308T183000
DTSTAMP:20260422T225212
CREATED:20250925T042337Z
LAST-MODIFIED:20250925T042337Z
UID:1885-1836153000-1836153000@ranchmans23.com
SUMMARY:Bar Bingo
DESCRIPTION:
URL:https://ranchmans23.com/events/bar-bingo-2027-09-22/2028-03-08/
END:VEVENT
BEGIN:VEVENT
DTSTART;TZID=UTC:20280314T183000
DTEND;TZID=UTC:20280314T183000
DTSTAMP:20260422T225212
CREATED:20250925T041927Z
LAST-MODIFIED:20250925T041927Z
UID:1886-1836671400-1836671400@ranchmans23.com
SUMMARY:Bingo
DESCRIPTION:
URL:https://ranchmans23.com/events/bingo/2028-03-14/
END:VEVENT
BEGIN:VEVENT
DTSTART;TZID=UTC:20280315T183000
DTEND;TZID=UTC:20280315T183000
DTSTAMP:20260422T225212
CREATED:20250925T042337Z
LAST-MODIFIED:20250925T042337Z
UID:1887-1836757800-1836757800@ranchmans23.com
SUMMARY:Bar Bingo
DESCRIPTION:
URL:https://ranchmans23.com/events/bar-bingo/2028-03-15/
END:VEVENT
BEGIN:VEVENT
DTSTART;TZID=UTC:20280315T183000
DTEND;TZID=UTC:20280315T183000
DTSTAMP:20260422T225212
CREATED:20250925T042337Z
LAST-MODIFIED:20250925T042337Z
UID:1888-1836757800-1836757800@ranchmans23.com
SUMMARY:Bar Bingo
DESCRIPTION:
URL:https://ranchmans23.com/events/bar-bingo-2027-09-22/2028-03-15/
END:VEVENT
BEGIN:VEVENT
DTSTART;TZID=UTC:20280321T183000
DTEND;TZID=UTC:20280321T183000
DTSTAMP:20260422T225212
CREATED:20250925T041927Z
LAST-MODIFIED:20250925T041927Z
UID:1889-1837276200-1837276200@ranchmans23.com
SUMMARY:Bingo
DESCRIPTION:
URL:https://ranchmans23.com/events/bingo/2028-03-21/
END:VEVENT
BEGIN:VEVENT
DTSTART;TZID=UTC:20280322T183000
DTEND;TZID=UTC:20280322T183000
DTSTAMP:20260422T225212
CREATED:20250925T042337Z
LAST-MODIFIED:20250925T042337Z
UID:1890-1837362600-1837362600@ranchmans23.com
SUMMARY:Bar Bingo
DESCRIPTION:
URL:https://ranchmans23.com/events/bar-bingo/2028-03-22/
END:VEVENT
BEGIN:VEVENT
DTSTART;TZID=UTC:20280322T183000
DTEND;TZID=UTC:20280322T183000
DTSTAMP:20260422T225212
CREATED:20250925T042337Z
LAST-MODIFIED:20250925T042337Z
UID:1891-1837362600-1837362600@ranchmans23.com
SUMMARY:Bar Bingo
DESCRIPTION:
URL:https://ranchmans23.com/events/bar-bingo-2027-09-22/2028-03-22/
END:VEVENT
BEGIN:VEVENT
DTSTART;TZID=UTC:20280328T183000
DTEND;TZID=UTC:20280328T183000
DTSTAMP:20260422T225212
CREATED:20250925T041927Z
LAST-MODIFIED:20250925T041927Z
UID:1892-1837881000-1837881000@ranchmans23.com
SUMMARY:Bingo
DESCRIPTION:
URL:https://ranchmans23.com/events/bingo/2028-03-28/
END:VEVENT
BEGIN:VEVENT
DTSTART;TZID=UTC:20280329T183000
DTEND;TZID=UTC:20280329T183000
DTSTAMP:20260422T225212
CREATED:20250925T042337Z
LAST-MODIFIED:20250925T042337Z
UID:1893-1837967400-1837967400@ranchmans23.com
SUMMARY:Bar Bingo
DESCRIPTION:
URL:https://ranchmans23.com/events/bar-bingo/2028-03-29/
END:VEVENT
BEGIN:VEVENT
DTSTART;TZID=UTC:20280329T183000
DTEND;TZID=UTC:20280329T183000
DTSTAMP:20260422T225212
CREATED:20250925T042337Z
LAST-MODIFIED:20250925T042337Z
UID:1894-1837967400-1837967400@ranchmans23.com
SUMMARY:Bar Bingo
DESCRIPTION:
URL:https://ranchmans23.com/events/bar-bingo-2027-09-22/2028-03-29/
END:VEVENT
BEGIN:VEVENT
DTSTART;TZID=UTC:20280404T183000
DTEND;TZID=UTC:20280404T183000
DTSTAMP:20260422T225212
CREATED:20250925T041927Z
LAST-MODIFIED:20250925T041927Z
UID:1895-1838485800-1838485800@ranchmans23.com
SUMMARY:Bingo
DESCRIPTION:
URL:https://ranchmans23.com/events/bingo/2028-04-04/
END:VEVENT
BEGIN:VEVENT
DTSTART;TZID=UTC:20280405T183000
DTEND;TZID=UTC:20280405T183000
DTSTAMP:20260422T225212
CREATED:20250925T042337Z
LAST-MODIFIED:20250925T042337Z
UID:1896-1838572200-1838572200@ranchmans23.com
SUMMARY:Bar Bingo
DESCRIPTION:
URL:https://ranchmans23.com/events/bar-bingo/2028-04-05/
END:VEVENT
BEGIN:VEVENT
DTSTART;TZID=UTC:20280405T183000
DTEND;TZID=UTC:20280405T183000
DTSTAMP:20260422T225212
CREATED:20250925T042337Z
LAST-MODIFIED:20250925T042337Z
UID:1897-1838572200-1838572200@ranchmans23.com
SUMMARY:Bar Bingo
DESCRIPTION:
URL:https://ranchmans23.com/events/bar-bingo-2027-09-22/2028-04-05/
END:VEVENT
BEGIN:VEVENT
DTSTART;TZID=UTC:20280411T183000
DTEND;TZID=UTC:20280411T183000
DTSTAMP:20260422T225212
CREATED:20250925T041927Z
LAST-MODIFIED:20250925T041927Z
UID:1898-1839090600-1839090600@ranchmans23.com
SUMMARY:Bingo
DESCRIPTION:
URL:https://ranchmans23.com/events/bingo/2028-04-11/
END:VEVENT
BEGIN:VEVENT
DTSTART;TZID=UTC:20280412T183000
DTEND;TZID=UTC:20280412T183000
DTSTAMP:20260422T225212
CREATED:20250925T042337Z
LAST-MODIFIED:20250925T042337Z
UID:1899-1839177000-1839177000@ranchmans23.com
SUMMARY:Bar Bingo
DESCRIPTION:
URL:https://ranchmans23.com/events/bar-bingo/2028-04-12/
END:VEVENT
BEGIN:VEVENT
DTSTART;TZID=UTC:20280412T183000
DTEND;TZID=UTC:20280412T183000
DTSTAMP:20260422T225212
CREATED:20250925T042337Z
LAST-MODIFIED:20250925T042337Z
UID:1900-1839177000-1839177000@ranchmans23.com
SUMMARY:Bar Bingo
DESCRIPTION:
URL:https://ranchmans23.com/events/bar-bingo-2027-09-22/2028-04-12/
END:VEVENT
BEGIN:VEVENT
DTSTART;TZID=UTC:20280418T183000
DTEND;TZID=UTC:20280418T183000
DTSTAMP:20260422T225212
CREATED:20250925T041927Z
LAST-MODIFIED:20250925T041927Z
UID:1901-1839695400-1839695400@ranchmans23.com
SUMMARY:Bingo
DESCRIPTION:
URL:https://ranchmans23.com/events/bingo/2028-04-18/
END:VEVENT
BEGIN:VEVENT
DTSTART;TZID=UTC:20280419T183000
DTEND;TZID=UTC:20280419T183000
DTSTAMP:20260422T225212
CREATED:20250925T042337Z
LAST-MODIFIED:20250925T042337Z
UID:1902-1839781800-1839781800@ranchmans23.com
SUMMARY:Bar Bingo
DESCRIPTION:
URL:https://ranchmans23.com/events/bar-bingo/2028-04-19/
END:VEVENT
BEGIN:VEVENT
DTSTART;TZID=UTC:20280419T183000
DTEND;TZID=UTC:20280419T183000
DTSTAMP:20260422T225212
CREATED:20250925T042337Z
LAST-MODIFIED:20250925T042337Z
UID:1903-1839781800-1839781800@ranchmans23.com
SUMMARY:Bar Bingo
DESCRIPTION:
URL:https://ranchmans23.com/events/bar-bingo-2027-09-22/2028-04-19/
END:VEVENT
END:VCALENDAR