BEGIN:VCALENDAR
VERSION:2.0
PRODID:-//RANCHMANS 23 - ECPv6.15.20//NONSGML v1.0//EN
CALSCALE:GREGORIAN
METHOD:PUBLISH
X-WR-CALNAME:RANCHMANS 23
X-ORIGINAL-URL:https://ranchmans23.com
X-WR-CALDESC:Events for RANCHMANS 23
REFRESH-INTERVAL;VALUE=DURATION:PT1H
X-Robots-Tag:noindex
X-PUBLISHED-TTL:PT1H
BEGIN:VTIMEZONE
TZID:UTC
BEGIN:STANDARD
TZOFFSETFROM:+0000
TZOFFSETTO:+0000
TZNAME:UTC
DTSTART:20260101T000000
END:STANDARD
END:VTIMEZONE
BEGIN:VEVENT
DTSTART;TZID=UTC:20270505T183000
DTEND;TZID=UTC:20270505T183000
DTSTAMP:20260421T233307
CREATED:20250925T042337Z
LAST-MODIFIED:20250925T042337Z
UID:1792-1809541800-1809541800@ranchmans23.com
SUMMARY:Bar Bingo
DESCRIPTION:
URL:https://ranchmans23.com/events/bar-bingo/2027-05-05/
END:VEVENT
BEGIN:VEVENT
DTSTART;TZID=UTC:20270511T183000
DTEND;TZID=UTC:20270511T183000
DTSTAMP:20260421T233307
CREATED:20250925T041927Z
LAST-MODIFIED:20250925T041927Z
UID:1685-1810060200-1810060200@ranchmans23.com
SUMMARY:Bingo
DESCRIPTION:
URL:https://ranchmans23.com/events/bingo/2027-05-11/
END:VEVENT
BEGIN:VEVENT
DTSTART;TZID=UTC:20270512T183000
DTEND;TZID=UTC:20270512T183000
DTSTAMP:20260421T233307
CREATED:20250925T042337Z
LAST-MODIFIED:20250925T042337Z
UID:1793-1810146600-1810146600@ranchmans23.com
SUMMARY:Bar Bingo
DESCRIPTION:
URL:https://ranchmans23.com/events/bar-bingo/2027-05-12/
END:VEVENT
BEGIN:VEVENT
DTSTART;TZID=UTC:20270518T183000
DTEND;TZID=UTC:20270518T183000
DTSTAMP:20260421T233307
CREATED:20250925T041927Z
LAST-MODIFIED:20250925T041927Z
UID:1686-1810665000-1810665000@ranchmans23.com
SUMMARY:Bingo
DESCRIPTION:
URL:https://ranchmans23.com/events/bingo/2027-05-18/
END:VEVENT
BEGIN:VEVENT
DTSTART;TZID=UTC:20270519T183000
DTEND;TZID=UTC:20270519T183000
DTSTAMP:20260421T233307
CREATED:20250925T042337Z
LAST-MODIFIED:20250925T042337Z
UID:1794-1810751400-1810751400@ranchmans23.com
SUMMARY:Bar Bingo
DESCRIPTION:
URL:https://ranchmans23.com/events/bar-bingo/2027-05-19/
END:VEVENT
BEGIN:VEVENT
DTSTART;TZID=UTC:20270525T183000
DTEND;TZID=UTC:20270525T183000
DTSTAMP:20260421T233307
CREATED:20250925T041927Z
LAST-MODIFIED:20250925T041927Z
UID:1687-1811269800-1811269800@ranchmans23.com
SUMMARY:Bingo
DESCRIPTION:
URL:https://ranchmans23.com/events/bingo/2027-05-25/
END:VEVENT
BEGIN:VEVENT
DTSTART;TZID=UTC:20270526T183000
DTEND;TZID=UTC:20270526T183000
DTSTAMP:20260421T233307
CREATED:20250925T042337Z
LAST-MODIFIED:20250925T042337Z
UID:1795-1811356200-1811356200@ranchmans23.com
SUMMARY:Bar Bingo
DESCRIPTION:
URL:https://ranchmans23.com/events/bar-bingo/2027-05-26/
END:VEVENT
BEGIN:VEVENT
DTSTART;TZID=UTC:20270601T183000
DTEND;TZID=UTC:20270601T183000
DTSTAMP:20260421T233307
CREATED:20250925T041927Z
LAST-MODIFIED:20250925T041927Z
UID:1688-1811874600-1811874600@ranchmans23.com
SUMMARY:Bingo
DESCRIPTION:
URL:https://ranchmans23.com/events/bingo/2027-06-01/
END:VEVENT
BEGIN:VEVENT
DTSTART;TZID=UTC:20270602T183000
DTEND;TZID=UTC:20270602T183000
DTSTAMP:20260421T233307
CREATED:20250925T042337Z
LAST-MODIFIED:20250925T042337Z
UID:1796-1811961000-1811961000@ranchmans23.com
SUMMARY:Bar Bingo
DESCRIPTION:
URL:https://ranchmans23.com/events/bar-bingo/2027-06-02/
END:VEVENT
BEGIN:VEVENT
DTSTART;TZID=UTC:20270608T183000
DTEND;TZID=UTC:20270608T183000
DTSTAMP:20260421T233307
CREATED:20250925T041927Z
LAST-MODIFIED:20250925T041927Z
UID:1689-1812479400-1812479400@ranchmans23.com
SUMMARY:Bingo
DESCRIPTION:
URL:https://ranchmans23.com/events/bingo/2027-06-08/
END:VEVENT
BEGIN:VEVENT
DTSTART;TZID=UTC:20270609T183000
DTEND;TZID=UTC:20270609T183000
DTSTAMP:20260421T233307
CREATED:20250925T042337Z
LAST-MODIFIED:20250925T042337Z
UID:1797-1812565800-1812565800@ranchmans23.com
SUMMARY:Bar Bingo
DESCRIPTION:
URL:https://ranchmans23.com/events/bar-bingo/2027-06-09/
END:VEVENT
BEGIN:VEVENT
DTSTART;TZID=UTC:20270615T183000
DTEND;TZID=UTC:20270615T183000
DTSTAMP:20260421T233307
CREATED:20250925T041927Z
LAST-MODIFIED:20250925T041927Z
UID:1690-1813084200-1813084200@ranchmans23.com
SUMMARY:Bingo
DESCRIPTION:
URL:https://ranchmans23.com/events/bingo/2027-06-15/
END:VEVENT
BEGIN:VEVENT
DTSTART;TZID=UTC:20270616T183000
DTEND;TZID=UTC:20270616T183000
DTSTAMP:20260421T233307
CREATED:20250925T042337Z
LAST-MODIFIED:20250925T042337Z
UID:1798-1813170600-1813170600@ranchmans23.com
SUMMARY:Bar Bingo
DESCRIPTION:
URL:https://ranchmans23.com/events/bar-bingo/2027-06-16/
END:VEVENT
BEGIN:VEVENT
DTSTART;TZID=UTC:20270622T183000
DTEND;TZID=UTC:20270622T183000
DTSTAMP:20260421T233307
CREATED:20250925T041927Z
LAST-MODIFIED:20250925T041927Z
UID:1691-1813689000-1813689000@ranchmans23.com
SUMMARY:Bingo
DESCRIPTION:
URL:https://ranchmans23.com/events/bingo/2027-06-22/
END:VEVENT
BEGIN:VEVENT
DTSTART;TZID=UTC:20270623T183000
DTEND;TZID=UTC:20270623T183000
DTSTAMP:20260421T233307
CREATED:20250925T042337Z
LAST-MODIFIED:20250925T042337Z
UID:1799-1813775400-1813775400@ranchmans23.com
SUMMARY:Bar Bingo
DESCRIPTION:
URL:https://ranchmans23.com/events/bar-bingo/2027-06-23/
END:VEVENT
BEGIN:VEVENT
DTSTART;TZID=UTC:20270629T183000
DTEND;TZID=UTC:20270629T183000
DTSTAMP:20260421T233307
CREATED:20250925T041927Z
LAST-MODIFIED:20250925T041927Z
UID:1692-1814293800-1814293800@ranchmans23.com
SUMMARY:Bingo
DESCRIPTION:
URL:https://ranchmans23.com/events/bingo/2027-06-29/
END:VEVENT
BEGIN:VEVENT
DTSTART;TZID=UTC:20270630T183000
DTEND;TZID=UTC:20270630T183000
DTSTAMP:20260421T233307
CREATED:20250925T042337Z
LAST-MODIFIED:20250925T042337Z
UID:1800-1814380200-1814380200@ranchmans23.com
SUMMARY:Bar Bingo
DESCRIPTION:
URL:https://ranchmans23.com/events/bar-bingo/2027-06-30/
END:VEVENT
BEGIN:VEVENT
DTSTART;TZID=UTC:20270706T183000
DTEND;TZID=UTC:20270706T183000
DTSTAMP:20260421T233307
CREATED:20250925T041927Z
LAST-MODIFIED:20250925T041927Z
UID:1693-1814898600-1814898600@ranchmans23.com
SUMMARY:Bingo
DESCRIPTION:
URL:https://ranchmans23.com/events/bingo/2027-07-06/
END:VEVENT
BEGIN:VEVENT
DTSTART;TZID=UTC:20270707T183000
DTEND;TZID=UTC:20270707T183000
DTSTAMP:20260421T233307
CREATED:20250925T042337Z
LAST-MODIFIED:20250925T042337Z
UID:1801-1814985000-1814985000@ranchmans23.com
SUMMARY:Bar Bingo
DESCRIPTION:
URL:https://ranchmans23.com/events/bar-bingo/2027-07-07/
END:VEVENT
BEGIN:VEVENT
DTSTART;TZID=UTC:20270713T183000
DTEND;TZID=UTC:20270713T183000
DTSTAMP:20260421T233307
CREATED:20250925T041927Z
LAST-MODIFIED:20250925T041927Z
UID:1694-1815503400-1815503400@ranchmans23.com
SUMMARY:Bingo
DESCRIPTION:
URL:https://ranchmans23.com/events/bingo/2027-07-13/
END:VEVENT
BEGIN:VEVENT
DTSTART;TZID=UTC:20270714T183000
DTEND;TZID=UTC:20270714T183000
DTSTAMP:20260421T233307
CREATED:20250925T042337Z
LAST-MODIFIED:20250925T042337Z
UID:1802-1815589800-1815589800@ranchmans23.com
SUMMARY:Bar Bingo
DESCRIPTION:
URL:https://ranchmans23.com/events/bar-bingo/2027-07-14/
END:VEVENT
BEGIN:VEVENT
DTSTART;TZID=UTC:20270720T183000
DTEND;TZID=UTC:20270720T183000
DTSTAMP:20260421T233307
CREATED:20250925T041927Z
LAST-MODIFIED:20250925T041927Z
UID:1695-1816108200-1816108200@ranchmans23.com
SUMMARY:Bingo
DESCRIPTION:
URL:https://ranchmans23.com/events/bingo/2027-07-20/
END:VEVENT
BEGIN:VEVENT
DTSTART;TZID=UTC:20270721T183000
DTEND;TZID=UTC:20270721T183000
DTSTAMP:20260421T233307
CREATED:20250925T042337Z
LAST-MODIFIED:20250925T042337Z
UID:1803-1816194600-1816194600@ranchmans23.com
SUMMARY:Bar Bingo
DESCRIPTION:
URL:https://ranchmans23.com/events/bar-bingo/2027-07-21/
END:VEVENT
BEGIN:VEVENT
DTSTART;TZID=UTC:20270727T183000
DTEND;TZID=UTC:20270727T183000
DTSTAMP:20260421T233307
CREATED:20250925T041927Z
LAST-MODIFIED:20250925T041927Z
UID:1696-1816713000-1816713000@ranchmans23.com
SUMMARY:Bingo
DESCRIPTION:
URL:https://ranchmans23.com/events/bingo/2027-07-27/
END:VEVENT
BEGIN:VEVENT
DTSTART;TZID=UTC:20270728T183000
DTEND;TZID=UTC:20270728T183000
DTSTAMP:20260421T233307
CREATED:20250925T042337Z
LAST-MODIFIED:20250925T042337Z
UID:1804-1816799400-1816799400@ranchmans23.com
SUMMARY:Bar Bingo
DESCRIPTION:
URL:https://ranchmans23.com/events/bar-bingo/2027-07-28/
END:VEVENT
BEGIN:VEVENT
DTSTART;TZID=UTC:20270803T183000
DTEND;TZID=UTC:20270803T183000
DTSTAMP:20260421T233307
CREATED:20250925T041927Z
LAST-MODIFIED:20250925T041927Z
UID:1697-1817317800-1817317800@ranchmans23.com
SUMMARY:Bingo
DESCRIPTION:
URL:https://ranchmans23.com/events/bingo/2027-08-03/
END:VEVENT
BEGIN:VEVENT
DTSTART;TZID=UTC:20270804T183000
DTEND;TZID=UTC:20270804T183000
DTSTAMP:20260421T233307
CREATED:20250925T042337Z
LAST-MODIFIED:20250925T042337Z
UID:1805-1817404200-1817404200@ranchmans23.com
SUMMARY:Bar Bingo
DESCRIPTION:
URL:https://ranchmans23.com/events/bar-bingo/2027-08-04/
END:VEVENT
BEGIN:VEVENT
DTSTART;TZID=UTC:20270810T183000
DTEND;TZID=UTC:20270810T183000
DTSTAMP:20260421T233307
CREATED:20250925T041927Z
LAST-MODIFIED:20250925T041927Z
UID:1698-1817922600-1817922600@ranchmans23.com
SUMMARY:Bingo
DESCRIPTION:
URL:https://ranchmans23.com/events/bingo/2027-08-10/
END:VEVENT
BEGIN:VEVENT
DTSTART;TZID=UTC:20270811T183000
DTEND;TZID=UTC:20270811T183000
DTSTAMP:20260421T233307
CREATED:20250925T042337Z
LAST-MODIFIED:20250925T042337Z
UID:1806-1818009000-1818009000@ranchmans23.com
SUMMARY:Bar Bingo
DESCRIPTION:
URL:https://ranchmans23.com/events/bar-bingo/2027-08-11/
END:VEVENT
BEGIN:VEVENT
DTSTART;TZID=UTC:20270817T183000
DTEND;TZID=UTC:20270817T183000
DTSTAMP:20260421T233307
CREATED:20250925T041927Z
LAST-MODIFIED:20250925T041927Z
UID:1699-1818527400-1818527400@ranchmans23.com
SUMMARY:Bingo
DESCRIPTION:
URL:https://ranchmans23.com/events/bingo/2027-08-17/
END:VEVENT
END:VCALENDAR