BEGIN:VCALENDAR
VERSION:2.0
PRODID:-//RANCHMANS 23 - ECPv6.15.20//NONSGML v1.0//EN
CALSCALE:GREGORIAN
METHOD:PUBLISH
X-ORIGINAL-URL:https://ranchmans23.com
X-WR-CALDESC:Events for RANCHMANS 23
REFRESH-INTERVAL;VALUE=DURATION:PT1H
X-Robots-Tag:noindex
X-PUBLISHED-TTL:PT1H
BEGIN:VTIMEZONE
TZID:UTC
BEGIN:STANDARD
TZOFFSETFROM:+0000
TZOFFSETTO:+0000
TZNAME:UTC
DTSTART:20260101T000000
END:STANDARD
END:VTIMEZONE
BEGIN:VEVENT
DTSTART;TZID=UTC:20270914T183000
DTEND;TZID=UTC:20270914T183000
DTSTAMP:20260422T222404
CREATED:20250925T041927Z
LAST-MODIFIED:20250925T041927Z
UID:1703-1820946600-1820946600@ranchmans23.com
SUMMARY:Bingo
DESCRIPTION:
URL:https://ranchmans23.com/events/bingo/2027-09-14/
END:VEVENT
BEGIN:VEVENT
DTSTART;TZID=UTC:20270915T183000
DTEND;TZID=UTC:20270915T183000
DTSTAMP:20260422T222404
CREATED:20250925T042337Z
LAST-MODIFIED:20250925T042337Z
UID:1811-1821033000-1821033000@ranchmans23.com
SUMMARY:Bar Bingo
DESCRIPTION:
URL:https://ranchmans23.com/events/bar-bingo/2027-09-15/
END:VEVENT
BEGIN:VEVENT
DTSTART;TZID=UTC:20270921T183000
DTEND;TZID=UTC:20270921T183000
DTSTAMP:20260422T222404
CREATED:20250925T041927Z
LAST-MODIFIED:20250925T041927Z
UID:1704-1821551400-1821551400@ranchmans23.com
SUMMARY:Bingo
DESCRIPTION:
URL:https://ranchmans23.com/events/bingo/2027-09-21/
END:VEVENT
BEGIN:VEVENT
DTSTART;TZID=UTC:20270922T183000
DTEND;TZID=UTC:20270922T183000
DTSTAMP:20260422T222404
CREATED:20250925T042337Z
LAST-MODIFIED:20250925T122805Z
UID:1470-1821637800-1821637800@ranchmans23.com
SUMMARY:Bar Bingo
DESCRIPTION:
URL:https://ranchmans23.com/events/bar-bingo-2027-09-22/2027-09-22/
END:VEVENT
BEGIN:VEVENT
DTSTART;TZID=UTC:20270922T183000
DTEND;TZID=UTC:20270922T183000
DTSTAMP:20260422T222404
CREATED:20250925T042337Z
LAST-MODIFIED:20250925T042337Z
UID:1812-1821637800-1821637800@ranchmans23.com
SUMMARY:Bar Bingo
DESCRIPTION:
URL:https://ranchmans23.com/events/bar-bingo/2027-09-22/
END:VEVENT
BEGIN:VEVENT
DTSTART;TZID=UTC:20270928T183000
DTEND;TZID=UTC:20270928T183000
DTSTAMP:20260422T222404
CREATED:20250925T041927Z
LAST-MODIFIED:20250925T041927Z
UID:1813-1822156200-1822156200@ranchmans23.com
SUMMARY:Bingo
DESCRIPTION:
URL:https://ranchmans23.com/events/bingo/2027-09-28/
END:VEVENT
BEGIN:VEVENT
DTSTART;TZID=UTC:20270929T183000
DTEND;TZID=UTC:20270929T183000
DTSTAMP:20260422T222404
CREATED:20250925T042337Z
LAST-MODIFIED:20250925T042337Z
UID:1815-1822242600-1822242600@ranchmans23.com
SUMMARY:Bar Bingo
DESCRIPTION:
URL:https://ranchmans23.com/events/bar-bingo-2027-09-22/2027-09-29/
END:VEVENT
BEGIN:VEVENT
DTSTART;TZID=UTC:20270929T183000
DTEND;TZID=UTC:20270929T183000
DTSTAMP:20260422T222404
CREATED:20250925T042337Z
LAST-MODIFIED:20250925T042337Z
UID:1814-1822242600-1822242600@ranchmans23.com
SUMMARY:Bar Bingo
DESCRIPTION:
URL:https://ranchmans23.com/events/bar-bingo/2027-09-29/
END:VEVENT
BEGIN:VEVENT
DTSTART;TZID=UTC:20271005T183000
DTEND;TZID=UTC:20271005T183000
DTSTAMP:20260422T222404
CREATED:20250925T041927Z
LAST-MODIFIED:20250925T041927Z
UID:1816-1822761000-1822761000@ranchmans23.com
SUMMARY:Bingo
DESCRIPTION:
URL:https://ranchmans23.com/events/bingo/2027-10-05/
END:VEVENT
BEGIN:VEVENT
DTSTART;TZID=UTC:20271006T183000
DTEND;TZID=UTC:20271006T183000
DTSTAMP:20260422T222404
CREATED:20250925T042337Z
LAST-MODIFIED:20250925T042337Z
UID:1817-1822847400-1822847400@ranchmans23.com
SUMMARY:Bar Bingo
DESCRIPTION:
URL:https://ranchmans23.com/events/bar-bingo/2027-10-06/
END:VEVENT
BEGIN:VEVENT
DTSTART;TZID=UTC:20271006T183000
DTEND;TZID=UTC:20271006T183000
DTSTAMP:20260422T222404
CREATED:20250925T042337Z
LAST-MODIFIED:20250925T042337Z
UID:1818-1822847400-1822847400@ranchmans23.com
SUMMARY:Bar Bingo
DESCRIPTION:
URL:https://ranchmans23.com/events/bar-bingo-2027-09-22/2027-10-06/
END:VEVENT
BEGIN:VEVENT
DTSTART;TZID=UTC:20271012T183000
DTEND;TZID=UTC:20271012T183000
DTSTAMP:20260422T222404
CREATED:20250925T041927Z
LAST-MODIFIED:20250925T041927Z
UID:1819-1823365800-1823365800@ranchmans23.com
SUMMARY:Bingo
DESCRIPTION:
URL:https://ranchmans23.com/events/bingo/2027-10-12/
END:VEVENT
BEGIN:VEVENT
DTSTART;TZID=UTC:20271013T183000
DTEND;TZID=UTC:20271013T183000
DTSTAMP:20260422T222404
CREATED:20250925T042337Z
LAST-MODIFIED:20250925T042337Z
UID:1820-1823452200-1823452200@ranchmans23.com
SUMMARY:Bar Bingo
DESCRIPTION:
URL:https://ranchmans23.com/events/bar-bingo/2027-10-13/
END:VEVENT
BEGIN:VEVENT
DTSTART;TZID=UTC:20271013T183000
DTEND;TZID=UTC:20271013T183000
DTSTAMP:20260422T222404
CREATED:20250925T042337Z
LAST-MODIFIED:20250925T042337Z
UID:1821-1823452200-1823452200@ranchmans23.com
SUMMARY:Bar Bingo
DESCRIPTION:
URL:https://ranchmans23.com/events/bar-bingo-2027-09-22/2027-10-13/
END:VEVENT
BEGIN:VEVENT
DTSTART;TZID=UTC:20271019T183000
DTEND;TZID=UTC:20271019T183000
DTSTAMP:20260422T222404
CREATED:20250925T041927Z
LAST-MODIFIED:20250925T041927Z
UID:1822-1823970600-1823970600@ranchmans23.com
SUMMARY:Bingo
DESCRIPTION:
URL:https://ranchmans23.com/events/bingo/2027-10-19/
END:VEVENT
BEGIN:VEVENT
DTSTART;TZID=UTC:20271020T183000
DTEND;TZID=UTC:20271020T183000
DTSTAMP:20260422T222404
CREATED:20250925T042337Z
LAST-MODIFIED:20250925T042337Z
UID:1824-1824057000-1824057000@ranchmans23.com
SUMMARY:Bar Bingo
DESCRIPTION:
URL:https://ranchmans23.com/events/bar-bingo-2027-09-22/2027-10-20/
END:VEVENT
BEGIN:VEVENT
DTSTART;TZID=UTC:20271020T183000
DTEND;TZID=UTC:20271020T183000
DTSTAMP:20260422T222404
CREATED:20250925T042337Z
LAST-MODIFIED:20250925T042337Z
UID:1823-1824057000-1824057000@ranchmans23.com
SUMMARY:Bar Bingo
DESCRIPTION:
URL:https://ranchmans23.com/events/bar-bingo/2027-10-20/
END:VEVENT
BEGIN:VEVENT
DTSTART;TZID=UTC:20271026T183000
DTEND;TZID=UTC:20271026T183000
DTSTAMP:20260422T222404
CREATED:20250925T041927Z
LAST-MODIFIED:20250925T041927Z
UID:1826-1824575400-1824575400@ranchmans23.com
SUMMARY:Bingo
DESCRIPTION:
URL:https://ranchmans23.com/events/bingo/2027-10-26/
END:VEVENT
BEGIN:VEVENT
DTSTART;TZID=UTC:20271027T183000
DTEND;TZID=UTC:20271027T183000
DTSTAMP:20260422T222404
CREATED:20250925T042337Z
LAST-MODIFIED:20250925T042337Z
UID:1827-1824661800-1824661800@ranchmans23.com
SUMMARY:Bar Bingo
DESCRIPTION:
URL:https://ranchmans23.com/events/bar-bingo/2027-10-27/
END:VEVENT
BEGIN:VEVENT
DTSTART;TZID=UTC:20271027T183000
DTEND;TZID=UTC:20271027T183000
DTSTAMP:20260422T222404
CREATED:20250925T042337Z
LAST-MODIFIED:20250925T042337Z
UID:1828-1824661800-1824661800@ranchmans23.com
SUMMARY:Bar Bingo
DESCRIPTION:
URL:https://ranchmans23.com/events/bar-bingo-2027-09-22/2027-10-27/
END:VEVENT
BEGIN:VEVENT
DTSTART;TZID=UTC:20271102T183000
DTEND;TZID=UTC:20271102T183000
DTSTAMP:20260422T222404
CREATED:20250925T041927Z
LAST-MODIFIED:20250925T041927Z
UID:1829-1825180200-1825180200@ranchmans23.com
SUMMARY:Bingo
DESCRIPTION:
URL:https://ranchmans23.com/events/bingo/2027-11-02/
END:VEVENT
BEGIN:VEVENT
DTSTART;TZID=UTC:20271103T183000
DTEND;TZID=UTC:20271103T183000
DTSTAMP:20260422T222404
CREATED:20250925T042337Z
LAST-MODIFIED:20250925T042337Z
UID:1830-1825266600-1825266600@ranchmans23.com
SUMMARY:Bar Bingo
DESCRIPTION:
URL:https://ranchmans23.com/events/bar-bingo/2027-11-03/
END:VEVENT
BEGIN:VEVENT
DTSTART;TZID=UTC:20271103T183000
DTEND;TZID=UTC:20271103T183000
DTSTAMP:20260422T222404
CREATED:20250925T042337Z
LAST-MODIFIED:20250925T042337Z
UID:1831-1825266600-1825266600@ranchmans23.com
SUMMARY:Bar Bingo
DESCRIPTION:
URL:https://ranchmans23.com/events/bar-bingo-2027-09-22/2027-11-03/
END:VEVENT
BEGIN:VEVENT
DTSTART;TZID=UTC:20271109T183000
DTEND;TZID=UTC:20271109T183000
DTSTAMP:20260422T222404
CREATED:20250925T041927Z
LAST-MODIFIED:20250925T041927Z
UID:1832-1825785000-1825785000@ranchmans23.com
SUMMARY:Bingo
DESCRIPTION:
URL:https://ranchmans23.com/events/bingo/2027-11-09/
END:VEVENT
BEGIN:VEVENT
DTSTART;TZID=UTC:20271110T183000
DTEND;TZID=UTC:20271110T183000
DTSTAMP:20260422T222404
CREATED:20250925T042337Z
LAST-MODIFIED:20250925T042337Z
UID:1833-1825871400-1825871400@ranchmans23.com
SUMMARY:Bar Bingo
DESCRIPTION:
URL:https://ranchmans23.com/events/bar-bingo/2027-11-10/
END:VEVENT
BEGIN:VEVENT
DTSTART;TZID=UTC:20271110T183000
DTEND;TZID=UTC:20271110T183000
DTSTAMP:20260422T222404
CREATED:20250925T042337Z
LAST-MODIFIED:20250925T042337Z
UID:1834-1825871400-1825871400@ranchmans23.com
SUMMARY:Bar Bingo
DESCRIPTION:
URL:https://ranchmans23.com/events/bar-bingo-2027-09-22/2027-11-10/
END:VEVENT
BEGIN:VEVENT
DTSTART;TZID=UTC:20271116T183000
DTEND;TZID=UTC:20271116T183000
DTSTAMP:20260422T222404
CREATED:20250925T041927Z
LAST-MODIFIED:20250925T041927Z
UID:1835-1826389800-1826389800@ranchmans23.com
SUMMARY:Bingo
DESCRIPTION:
URL:https://ranchmans23.com/events/bingo/2027-11-16/
END:VEVENT
BEGIN:VEVENT
DTSTART;TZID=UTC:20271117T183000
DTEND;TZID=UTC:20271117T183000
DTSTAMP:20260422T222404
CREATED:20250925T042337Z
LAST-MODIFIED:20250925T042337Z
UID:1837-1826476200-1826476200@ranchmans23.com
SUMMARY:Bar Bingo
DESCRIPTION:
URL:https://ranchmans23.com/events/bar-bingo-2027-09-22/2027-11-17/
END:VEVENT
BEGIN:VEVENT
DTSTART;TZID=UTC:20271117T183000
DTEND;TZID=UTC:20271117T183000
DTSTAMP:20260422T222404
CREATED:20250925T042337Z
LAST-MODIFIED:20250925T042337Z
UID:1836-1826476200-1826476200@ranchmans23.com
SUMMARY:Bar Bingo
DESCRIPTION:
URL:https://ranchmans23.com/events/bar-bingo/2027-11-17/
END:VEVENT
BEGIN:VEVENT
DTSTART;TZID=UTC:20271123T183000
DTEND;TZID=UTC:20271123T183000
DTSTAMP:20260422T222404
CREATED:20250925T041927Z
LAST-MODIFIED:20250925T041927Z
UID:1838-1826994600-1826994600@ranchmans23.com
SUMMARY:Bingo
DESCRIPTION:
URL:https://ranchmans23.com/events/bingo/2027-11-23/
END:VEVENT
END:VCALENDAR